BEGIN:VCALENDAR
VERSION:2.0
PRODID:-//evangelische-termine.de//NONSGML kigkonsult.se iCalcreator 2.18//
CALSCALE:GREGORIAN
METHOD:PUBLISH
X-WR-CALNAME:iCal Evangelische-Termine 20.04.2026
X-WR-CALDESC:iCalender von Evangelische-Termine (20.04.2026)
X-WR-TIMEZONE:Europe/Berlin
X-MS-OLK-FORCEINSPECTOROPEN:TRUE
BEGIN:VTIMEZONE
TZID:Europe/Berlin
BEGIN:STANDARD
DTSTART:19701025T030000
TZOFFSETFROM:+0200
TZOFFSETTO:+0100
RRULE:FREQ=YEARLY;BYDAY=-1SU;BYMONTH=10
TZNAME:CET
END:STANDARD
BEGIN:DAYLIGHT
DTSTART:19700329T020000
TZOFFSETFROM:+0100
TZOFFSETTO:+0200
RRULE:FREQ=YEARLY;BYDAY=-1SU;BYMONTH=3
TZNAME:CEST
END:DAYLIGHT
END:VTIMEZONE
BEGIN:VEVENT
UID:20240506T180000-751802@evangelische-termine.de
DTSTAMP:20260419T223741Z
DESCRIPTION:\nKirchenkreis: überregional\nArt der Veranstaltung: Fortbildun
 gen / Seminare / Vorträge\nVeranstaltungsort: online\n- -\nKurzbeschreibun
 g / Untertitel: Qualifizierungskurs für neue Büchereimitarbeitende und für
  alle\, die ihr Wissen auffrischen möchten.\nAusführliche Beschreibung: In
  diesem online Seminar erfahren Sie\, welche büchereirelevanten Datenschut
 zbestimmungen und Aspekte des Jugendschutzes in der Bücherei beachtet werd
 en müssen\, wie neue Leser und Leserinnen in BVS aufgenommen und in Ihrer 
 Bücherei eingeführt werden können und wie eine Ausleihe mit allen mögliche
 n Aufgaben (Ausleihe\, Rückgabe\, Verlängerung\, Mahnung) in BVS durchgefü
 hrt wird. Sie erhalten im Vorfeld einen Link zu einer Übungsversion von BV
 S\, die Sie auf ihrem Computer herunterladen und für diese Schulungszwecke
  nutzen können.\nInternetadresse (eigene Infos im Internet): https://eeb-s
 ued.de/veranstaltungen/\nFörderbereich: Ehrenamt\nAnsprechpartner/in - Lei
 tung: Helena Schäuble (Bildungsreferentin im eeb für Büchereiarbeit und Le
 iterin einer EÖB im Rheinland)\nKosten: 20\,– €\nZusatzinformationen: Verb
 indliche Anmeldung bis 22.04.24 über das hinterlegte Anmeldeformular oder 
 per Mail an HSchaeuble@eeb-sued.de.\nDie Veranstaltung findet statt über d
 ie online Plattform Zoom. Sie erhalten den Zugangslink mit der endgültigen
  Anmeldebestätigung.\n: 
DTSTART;TZID=Europe/Berlin:20240506T180000
DTEND;TZID=Europe/Berlin:20240506T200000
LOCATION:-: online
SUMMARY:Qualifizierungskurs Fit für die Büchereiarbeit Modul Benutzung und 
 Ausleihe mit BVS :: Qualifizierungskurs für neue Büchereimitarbeitende und
  für alle\, die ihr Wissen auffrischen möchten.
URL:https://termine.ekir.de/veranstaltung_im_detail751802.html
END:VEVENT
END:VCALENDAR
