BEGIN:VCALENDAR
VERSION:2.0
PRODID:-//evangelische-termine.de//NONSGML kigkonsult.se iCalcreator 2.18//
CALSCALE:GREGORIAN
METHOD:PUBLISH
X-WR-CALNAME:iCal Evangelische-Termine 20.04.2026
X-WR-CALDESC:iCalender von Evangelische-Termine (20.04.2026)
X-WR-TIMEZONE:Europe/Berlin
X-MS-OLK-FORCEINSPECTOROPEN:TRUE
BEGIN:VTIMEZONE
TZID:Europe/Berlin
BEGIN:STANDARD
DTSTART:19701025T030000
TZOFFSETFROM:+0200
TZOFFSETTO:+0100
RRULE:FREQ=YEARLY;BYDAY=-1SU;BYMONTH=10
TZNAME:CET
END:STANDARD
BEGIN:DAYLIGHT
DTSTART:19700329T020000
TZOFFSETFROM:+0100
TZOFFSETTO:+0200
RRULE:FREQ=YEARLY;BYDAY=-1SU;BYMONTH=3
TZNAME:CEST
END:DAYLIGHT
END:VTIMEZONE
BEGIN:VEVENT
UID:20240608T093000-751803@evangelische-termine.de
DTSTAMP:20260419T223913Z
DESCRIPTION:\nKirchenkreis: überregional\nArt der Veranstaltung: Fortbildun
 gen / Seminare / Vorträge\nVeranstaltungsort: online\n- -\nAusführliche Be
 schreibung: Was kann ich machen und was muss ich beachten\, um meinen Lese
 rn einen attraktiven und aktuellen Bestand in meiner Bücherei anzubieten? 
 Wie sieht meine Zielgruppe eigentlich aus? Was kann ich tun\, damit die Le
 ser und Leserinnen immer wiederkommen? Wie\, wann und was sondere ich aus 
 meinem Bestand aus? Und wo kann ich mich über neue Medien informieren? Auf
  diese Fragen erhalten Sie in diesem online Seminar Antworten von zwei Ref
 erentinnen\, die seit vielen Jahren eine Bücherei leiten und Ihnen gerne i
 hr Wissen und ihre persönlichen Tipps aus der Praxis weitergeben.\nInterne
 tadresse (eigene Infos im Internet): https://eeb-sued.de/veranstaltungen/
 \nFörderbereich: Ehrenamt\nReferent/in: Andrea Dörr\, Weiterbildnerin für 
 Büchereiarbeit im Rheinland und Leiterin einer EÖB im Rheinalnd\nAnsprechp
 artner/in - Leitung: Helena Schäuble (Bildungsreferentin im eeb für Bücher
 eiarbeit)\nKosten: 20\,– €\nZusatzinformationen: Verbindliche Anmeldung bi
 s 24.05.2024 über das hinterlegte Anmeldeformular oder per Mail an HSchaeu
 ble@eeb-sued.de.\nDie Veranstaltung findet statt über die online Plattform
  Zoom. Die Zugangsdaten erhalten Sie mit der endgültigen Anmeldebestätigun
 g.\n: 
DTSTART;TZID=Europe/Berlin:20240608T093000
DTEND;TZID=Europe/Berlin:20240608T123000
LOCATION:-: online
SUMMARY:Fit für die Büchereiarbeit Modul Bestandsaufbau\, Bestandspflege\, 
 Sichtungsinstrumente :: Qualifizierungskurs für neue Büchereimitarbeitende
  und für alle\, die ihr Wissen auffrischen möchten.
URL:https://termine.ekir.de/veranstaltung_im_detail751803.html
END:VEVENT
END:VCALENDAR
