BEGIN:VCALENDAR
VERSION:2.0
PRODID:-//evangelische-termine.de//NONSGML kigkonsult.se iCalcreator 2.18//
CALSCALE:GREGORIAN
METHOD:PUBLISH
X-WR-CALNAME:iCal Evangelische-Termine 19.04.2026
X-WR-CALDESC:iCalender von Evangelische-Termine (19.04.2026)
X-WR-TIMEZONE:Europe/Berlin
X-MS-OLK-FORCEINSPECTOROPEN:TRUE
BEGIN:VTIMEZONE
TZID:Europe/Berlin
BEGIN:STANDARD
DTSTART:19701025T030000
TZOFFSETFROM:+0200
TZOFFSETTO:+0100
RRULE:FREQ=YEARLY;BYDAY=-1SU;BYMONTH=10
TZNAME:CET
END:STANDARD
BEGIN:DAYLIGHT
DTSTART:19700329T020000
TZOFFSETFROM:+0100
TZOFFSETTO:+0200
RRULE:FREQ=YEARLY;BYDAY=-1SU;BYMONTH=3
TZNAME:CEST
END:DAYLIGHT
END:VTIMEZONE
BEGIN:VEVENT
UID:20240108T190000-754512@evangelische-termine.de
DTSTAMP:20260419T192645Z
DESCRIPTION:\nKirchenkreis: überregional\nArt der Veranstaltung: Fortbildun
 gen / Seminare / Vorträge\nKurzbeschreibung / Untertitel: Können digitale 
 Kanäle einen Einfluss auf die Demokratie haben?\nAusführliche Beschreibung
 : Der Sturm auf das Kapitol in Washington 2021 oder 2023 auf das Kongressg
 elände in Brasilien zeigen\, dass Social Media als Plattform für demokrati
 efeindliche Aufrufe missbraucht werden kann.\n\nAm 08. Januar geben die be
 iden Referenten Severino Ferreira das Silva und Christian Gisinger einen Ü
 berblick darüber\, wie sich Informationen über das Internet verbreiten sow
 ie wie Foren und Communities diese Wege nutzen\, um viele Menschen für ihr
 e Ziele zu gewinnen. Am Beispiel Brasilien gibt Ferreira da Silva Hintergr
 undinformationen. Die Veranstaltung ist kostenfrei und findet von 19 bis 2
 1 Uhr über ZOOM statt. Alle\, die sich mehr Informationen zu Algorithmen\,
  Filterbubbles und Viralität wünschen\, sind herzlich eingeladen.\n\nEinst
 ellungen zur Barrierefreiheit:\n\nWir nutzen die Videokonferenzsoftware Zo
 om. Wie Zoom funktioniert\, erfahren Sie hier. Mit dieser Software lässt s
 ich die Schriftgröße im Chat anpassen. Wir werden während der Veranstaltun
 g den Teilnehmenden die Präsentation über Bildschirmfreigabe zur Verfügung
  stellen. Falls Sie zur Nutzung eines Screenreaders die Präsentation im Vo
 rfeld benötigen\, sprechen Sie uns bitte an. Wenn Sie durch Gebärdendolmet
 scher*innen bei der Teilnahme unterstützt werden\, können Sie mit Zoom Ihr
 e Ansicht entsprechend anpassen.\nInternetadresse (eigene Infos im Interne
 t): https://elag.de/demokratie-digital-2/\nFörderbereich: Politische Bildu
 ng\nReferent/in: Severino Ferreira da Silva (Evangelische Arbeitsstelle Bi
 ldung und Gesellschaft) & Christian Gisinger (ELAG)\nAnsprechpartner/in - 
 Leitung: Christian Gisinger\nKosten: kostenlos\nZusatzinformationen: Einst
 ellungen zur Barrierefreiheit:\n\nWir nutzen die Videokonferenzsoftware Zo
 om. Wie Zoom funktioniert\, erfahren Sie hier. Mit dieser Software lässt s
 ich die Schriftgröße im Chat anpassen. Wir werden während der Veranstaltun
 g den Teilnehmenden die Präsentation über Bildschirmfreigabe zur Verfügung
  stellen. Falls Sie zur Nutzung eines Screenreaders die Präsentation im Vo
 rfeld benötigen\, sprechen Sie uns bitte an. Wenn Sie durch Gebärdendolmet
 scher*innen bei der Teilnahme unterstützt werden\, können Sie mit Zoom Ihr
 e Ansicht entsprechend anpassen.\n\nAnmeldung unter https://elag.de/demokr
 atie-digital-2/\nAnsprechpartner: Christian Gisinger christian.gisinger@el
 ag.de\nAngaben zur Barrierefreiheit: Veranstaltung findet in Leichter Spra
 che statt
DTSTART;TZID=Europe/Berlin:20240108T190000
DTEND;TZID=Europe/Berlin:20240108T210000
LOCATION:Internet: nur Internet
SUMMARY:Demokratie Digital :: Können digitale Kanäle einen Einfluss auf die
  Demokratie haben?
URL:https://termine.ekir.de/veranstaltung_im_detail754512.html
END:VEVENT
END:VCALENDAR
