BEGIN:VCALENDAR
VERSION:2.0
PRODID:-//evangelische-termine.de//NONSGML kigkonsult.se iCalcreator 2.18//
CALSCALE:GREGORIAN
METHOD:PUBLISH
X-WR-CALNAME:iCal Evangelische-Termine 19.04.2026
X-WR-CALDESC:iCalender von Evangelische-Termine (19.04.2026)
X-WR-TIMEZONE:Europe/Berlin
X-MS-OLK-FORCEINSPECTOROPEN:TRUE
BEGIN:VTIMEZONE
TZID:Europe/Berlin
BEGIN:STANDARD
DTSTART:19701025T030000
TZOFFSETFROM:+0200
TZOFFSETTO:+0100
RRULE:FREQ=YEARLY;BYDAY=-1SU;BYMONTH=10
TZNAME:CET
END:STANDARD
BEGIN:DAYLIGHT
DTSTART:19700329T020000
TZOFFSETFROM:+0100
TZOFFSETTO:+0200
RRULE:FREQ=YEARLY;BYDAY=-1SU;BYMONTH=3
TZNAME:CEST
END:DAYLIGHT
END:VTIMEZONE
BEGIN:VEVENT
UID:20240111T100000-754517@evangelische-termine.de
DTSTAMP:20260419T192736Z
DESCRIPTION:\nKirchenkreis: überregional\nArt der Veranstaltung: Fortbildun
 gen / Seminare / Vorträge\nAusführliche Beschreibung: Online ist Alltag ge
 worden. Wir halten Konferenzen\, Seminare und Tagungen mittlerweile ganz s
 elbstverständlich im digitalen Raum ab. Bei der Planung fragen wir uns abe
 r immer noch\, ob wir die uns vertrauten analoge Abläufe 1:1 übertragen kö
 nnen. Oder bieten digitale Veranstaltungen eine Menge neuer Methoden und M
 öglichkeiten zur Gestaltung von Lernprozessen?\n\nMit diesen und weiteren 
 Fragen wollen wir uns am 11. Januar von 10:00 bis 12:00 Uhr beschäftigen. 
 Silke Scheidel und Christian Gisinger zeigen\, mit welchen Methoden und Pl
 anungsschritten ein digitales Seminar durchgeführt werden kann. Alle Teile
  einer „digitalen Musterveranstaltung“ werden zusätzlich auf der Metaebene
  durchleuchtet. Hier sind auch Ihre eigenen Erfahrungen gefragt. Ziel ist 
 die Erarbeitung eines fundierten Gerüsts\, das sie auch für die eigene Ver
 anstaltungsgestaltung einsetzen\, verändern und mit Ihren eigenen Inhalten
  füllen können\n\nImpuls und Austausch für haupt- und ehrenamtliche Multip
 likator*innen.\nInternetadresse (eigene Infos im Internet): https://elag.d
 e/wie-geht-eigentlich-eine-digitale-veranstaltung-2/\nFörderbereich: Arbei
 tswelt- und berufsbezogene Weiterbildung\nReferent/in: Silke Scheidel (Eva
 ngelische Arbeitsstelle Bildung und Gesellschaft) & Christian Gisinger (EL
 AG)\nAnsprechpartner/in - Leitung: Christian Gisinger\nKosten: kostenlos\n
 Zusatzinformationen: Einstellungen zur Barrierefreiheit:\n\nWir nutzen die
  Videokonferenzsoftware Zoom. Wie Zoom funktioniert\, erfahren Sie hier. M
 it dieser Software lässt sich die Schriftgröße im Chat anpassen. Wir werde
 n während der Veranstaltung den Teilnehmenden die Präsentation über Bildsc
 hirmfreigabe zur Verfügung stellen. Falls Sie zur Nutzung eines Screenread
 ers die Präsentation im Vorfeld benötigen\, sprechen Sie uns bitte an. Wen
 n Sie durch Gebärdendolmetscher*innen bei der Teilnahme unterstützt werden
 \, können Sie mit Zoom Ihre Ansicht entsprechend anpassen.\n\nAnmeldung un
 ter https://elag.de/wie-geht-eigentlich-eine-digitale-veranstaltung-2/\nAn
 sprechpartner: Christian Gisinger christian.gisinger@elag.de\nAngaben zur 
 Barrierefreiheit: Veranstaltung findet in Leichter Sprache statt
DTSTART;TZID=Europe/Berlin:20240111T100000
DTEND;TZID=Europe/Berlin:20240111T120000
LOCATION:Internet: nur Internet
SUMMARY:Wie geht eigentlich … eine digitale Veranstaltung?
URL:https://termine.ekir.de/veranstaltung_im_detail754517.html
END:VEVENT
END:VCALENDAR
