BEGIN:VCALENDAR
VERSION:2.0
PRODID:-//evangelische-termine.de//NONSGML kigkonsult.se iCalcreator 2.18//
CALSCALE:GREGORIAN
METHOD:PUBLISH
X-WR-CALNAME:iCal Evangelische-Termine 19.04.2026
X-WR-CALDESC:iCalender von Evangelische-Termine (19.04.2026)
X-WR-TIMEZONE:Europe/Berlin
X-MS-OLK-FORCEINSPECTOROPEN:TRUE
BEGIN:VTIMEZONE
TZID:Europe/Berlin
BEGIN:STANDARD
DTSTART:19701025T030000
TZOFFSETFROM:+0200
TZOFFSETTO:+0100
RRULE:FREQ=YEARLY;BYDAY=-1SU;BYMONTH=10
TZNAME:CET
END:STANDARD
BEGIN:DAYLIGHT
DTSTART:19700329T020000
TZOFFSETFROM:+0100
TZOFFSETTO:+0200
RRULE:FREQ=YEARLY;BYDAY=-1SU;BYMONTH=3
TZNAME:CEST
END:DAYLIGHT
END:VTIMEZONE
BEGIN:VEVENT
UID:20240206T160000-754518@evangelische-termine.de
DTSTAMP:20260419T211324Z
DESCRIPTION:\nKirchenkreis: überregional\nArt der Veranstaltung: Fortbildun
 gen / Seminare / Vorträge\nKurzbeschreibung / Untertitel: Mit dieser Info-
  und Diskussionsveranstaltung wollen wir sensibilisieren\, welche Möglichk
 eiten es gibt\, aktiv gegen Hatespeech im Internet einzutreten und uns geg
 enseitig zu unterstützen.\nAusführliche Beschreibung: Hatespeech – Hassred
 e im Internet. Sie beleidigt\, diskriminiert\, grenzt aus und erniedrigt d
 urch schriftliche\, symbolische oder bildhafte Kommentare. Sie verletzt Be
 troffene\, sie verändert das Miteinander in unserer Gesellschaft und gefäh
 rdet unsere Menschenrechte.\n\nMit dieser Info- und Diskussionsveranstaltu
 ng wollen wir sensibilisieren\, welche Möglichkeiten es gibt\, aktiv gegen
  Hatespeech im Internet einzutreten und uns gegenseitig zu unterstützen.\n
 \nTriggerwarnung:\n\nBei der Veranstaltung können zu Übungszwecken der dig
 italen Zivilcourage diskriminierende Kommentare dargestellt werden. Wenn S
 ie trotzdem die Möglichkeiten der digitalen Zivilcourage kennenlernen möch
 ten\, halten Sie auf unserer Homepage und unseren Auftritten in den sozial
 en Medien Ausschau nach den entsprechenden Tipps und Checklisten etc.\nInt
 ernetadresse (eigene Infos im Internet): https://elag.de/trau-dich-durchs-
 netz-digitale-zivilcourage-2/\nFörderbereich: Gesellschaft\, Politik und W
 irtschaft\nReferent/in: Christian Gisinger (ELAG) & Silke Scheidel (Evange
 lische Arbeitsstelle Bildung und Gesellschaft)\nAnsprechpartner/in - Leitu
 ng: Christian Gisinger\nKosten: kostenlos\nZusatzinformationen: Einstellun
 gen zur Barrierefreiheit:\n\nWir nutzen die Videokonferenzsoftware Zoom. W
 ie Zoom funktioniert\, erfahren Sie hier. Mit dieser Software lässt sich d
 ie Schriftgröße im Chat anpassen. Wir werden während der Veranstaltung den
  Teilnehmenden die Präsentation über Bildschirmfreigabe zur Verfügung stel
 len. Falls Sie zur Nutzung eines Screenreaders die Präsentation im Vorfeld
  benötigen\, sprechen Sie uns bitte an. Wenn Sie durch Gebärdendolmetscher
 *innen bei der Teilnahme unterstützt werden\, können Sie mit Zoom Ihre Ans
 icht entsprechend anpassen.\n\nAnmeldung unter https://elag.de/trau-dich-d
 urchs-netz-digitale-zivilcourage-2/\nAnsprechpartner: Christian Gisinger c
 hristian.gisinger@elag.de
DTSTART;TZID=Europe/Berlin:20240206T160000
DTEND;TZID=Europe/Berlin:20240206T180000
LOCATION:Internet: nur Internet
SUMMARY:Trau‘ dich durchs Netz – Digitale Zivilcourage
URL:https://termine.ekir.de/veranstaltung_im_detail754518.html
END:VEVENT
END:VCALENDAR
