BEGIN:VCALENDAR
VERSION:2.0
PRODID:-//evangelische-termine.de//NONSGML kigkonsult.se iCalcreator 2.18//
CALSCALE:GREGORIAN
METHOD:PUBLISH
X-WR-CALNAME:iCal Evangelische-Termine 19.04.2026
X-WR-CALDESC:iCalender von Evangelische-Termine (19.04.2026)
X-WR-TIMEZONE:Europe/Berlin
X-MS-OLK-FORCEINSPECTOROPEN:TRUE
BEGIN:VTIMEZONE
TZID:Europe/Berlin
BEGIN:STANDARD
DTSTART:19701025T030000
TZOFFSETFROM:+0200
TZOFFSETTO:+0100
RRULE:FREQ=YEARLY;BYDAY=-1SU;BYMONTH=10
TZNAME:CET
END:STANDARD
BEGIN:DAYLIGHT
DTSTART:19700329T020000
TZOFFSETFROM:+0100
TZOFFSETTO:+0200
RRULE:FREQ=YEARLY;BYDAY=-1SU;BYMONTH=3
TZNAME:CEST
END:DAYLIGHT
END:VTIMEZONE
BEGIN:VEVENT
UID:20240321T133000-754522@evangelische-termine.de
DTSTAMP:20260419T204711Z
DESCRIPTION:\nKirchenkreis: überregional\nArt der Veranstaltung: Fortbildun
 gen / Seminare / Vorträge\nKurzbeschreibung / Untertitel: Kennenlernen der
  Gestaltungsplattform\nAusführliche Beschreibung: Viele von uns denken bei
 m Gestalten von Grafiken an teure Programme\, die erstmal kompliziert und 
 schwer zu erlernen scheinen. Canva ist ein einfaches Online-Programm\, mit
  dem sich schnell und intuitiv Grafiken für die unterschiedlichen sozialen
  Medien wie Facebook\, Instagram oder YouTube erstellen oder Flyer bearbei
 ten lassen.\n\nIn unserem kostenfreien Online-Workshop möchten Carola Schi
 ck (EEB Rheinland-Süd) und Christian Gisinger (ELAG) Ihnen zeigen welche M
 öglichkeiten Canva zu bieten hat. Außerdem werden Sie die Gelegenheit habe
 n\, diese auch selbst auszuprobieren und erste eigene Grafikprojekte zu er
 stellen.\nInternetadresse (eigene Infos im Internet): https://elag.de/wie-
 geht-eigentlich-canva-2/\nFörderbereich: Technik\, Technologien\, Medien\n
 Referent/in: Christian Gisinger (ELAG) & Carola Schick (EEB Rheinland-Süd)
 \nAnsprechpartner/in - Leitung: Carola Schick\nKosten: kostenlos\nZusatzin
 formationen: Einstellungen zur Barrierefreiheit:\n\nWir nutzen die Videoko
 nferenzsoftware Zoom. Wie Zoom funktioniert\, erfahren Sie hier. Mit diese
 r Software lässt sich die Schriftgröße im Chat anpassen. Wir werden währen
 d der Veranstaltung den Teilnehmenden die Präsentation über Bildschirmfrei
 gabe zur Verfügung stellen. Falls Sie zur Nutzung eines Screenreaders die 
 Präsentation im Vorfeld benötigen\, sprechen Sie uns bitte an. Wenn Sie du
 rch Gebärdendolmetscher*innen bei der Teilnahme unterstützt werden\, könne
 n Sie mit Zoom Ihre Ansicht entsprechend anpassen.\n\nAnmeldung unter http
 s://elag.de/wie-geht-eigentlich-canva-2/\nAnsprechpartner: Carola Schick e
 eb-sued@eeb-sued.de
DTSTART;TZID=Europe/Berlin:20240321T133000
DTEND;TZID=Europe/Berlin:20240321T153000
LOCATION:Internet: nur Internet
SUMMARY:Wie geht eigentlich … Canva? :: Kennenlernen der Gestaltungsplattfo
 rm
URL:https://termine.ekir.de/veranstaltung_im_detail754522.html
END:VEVENT
END:VCALENDAR
