BEGIN:VCALENDAR
VERSION:2.0
PRODID:-//evangelische-termine.de//NONSGML kigkonsult.se iCalcreator 2.18//
CALSCALE:GREGORIAN
METHOD:PUBLISH
X-WR-CALNAME:iCal Evangelische-Termine 20.04.2026
X-WR-CALDESC:iCalender von Evangelische-Termine (20.04.2026)
X-WR-TIMEZONE:Europe/Berlin
X-MS-OLK-FORCEINSPECTOROPEN:TRUE
BEGIN:VTIMEZONE
TZID:Europe/Berlin
BEGIN:STANDARD
DTSTART:19701025T030000
TZOFFSETFROM:+0200
TZOFFSETTO:+0100
RRULE:FREQ=YEARLY;BYDAY=-1SU;BYMONTH=10
TZNAME:CET
END:STANDARD
BEGIN:DAYLIGHT
DTSTART:19700329T020000
TZOFFSETFROM:+0100
TZOFFSETTO:+0200
RRULE:FREQ=YEARLY;BYDAY=-1SU;BYMONTH=3
TZNAME:CEST
END:DAYLIGHT
END:VTIMEZONE
BEGIN:VEVENT
UID:20240516T140000-754525@evangelische-termine.de
DTSTAMP:20260419T223905Z
DESCRIPTION:\nKirchenkreis: überregional\nArt der Veranstaltung: Fortbildun
 gen / Seminare / Vorträge\nVeranstaltungsort: Evangelische Arbeitsstelle B
 ildung und Gesellschaft\nUnionstraße 1\n67657 Kaiserslautern\nKurzbeschrei
 bung / Untertitel: Mit dieser Info- und Diskussionsveranstaltung wollen wi
 r sensibilisieren\, welche Möglichkeiten es gibt\, aktiv gegen Hatespeech 
 im Internet einzutreten und uns gegenseitig zu unterstützen.\nAusführliche
  Beschreibung: Hatespeech – Hassrede im Internet. Sie beleidigt\, diskrimi
 niert\, grenzt aus und erniedrigt durch schriftliche\, symbolische oder bi
 ldhafte Kommentare. Sie verletzt Betroffene\, sie verändert das Miteinande
 r in unserer Gesellschaft und gefährdet unsere Menschenrechte.\n\nMit dies
 er Info- und Diskussionsveranstaltung wollen wir sensibilisieren\, welche 
 Möglichkeiten es gibt\, aktiv gegen Hatespeech im Internet einzutreten und
  uns gegenseitig zu unterstützen.\n\nTriggerwarnung:\n\nBei der Veranstalt
 ung können zu Übungszwecken der digitalen Zivilcourage diskriminierende Ko
 mmentare dargestellt werden. Wenn Sie trotzdem die Möglichkeiten der digit
 alen Zivilcourage kennenlernen möchten\, halten Sie auf unserer Homepage u
 nd unseren Auftritten in den sozialen Medien Ausschau nach den entsprechen
 den Tipps und Checklisten etc.\nInternetadresse (eigene Infos im Internet)
 : https://elag.de/trau-dich-durchs-netz-digitale-zivilcourage-praesenzwork
 shop/\nFörderbereich: Gesellschaft\, Politik und Wirtschaft\nReferent/in: 
 Christian Gisinger (ELAG) & Silke Scheidel (Evangelische Arbeitsstelle Bil
 dung und Gesellschaft)\nAnsprechpartner/in - Leitung: Christian Gisinger\n
 Kosten: kostenlos\nZusatzinformationen: Einstellungen zur Barrierefreiheit
 :\n\nDas Heinz-Wilhelmy-Haus ist barrierefrei und mit öffentlichen Verkehr
 smitteln erreichbar. Falls Sie wegen einer Beeinträchtigung mit einer Begl
 eitperson kommen oder einen besonderen Bedarf an unseren Tagungsraum oder 
 uns haben\, vermerken Sie dies bitte im Nachrichtenfeld des Anmeldeformula
 rs.\n\nAnmeldung unter https://elag.de/trau-dich-durchs-netz-digitale-zivi
 lcourage-praesenzworkshop/\nAnsprechpartner: Christian Gisinger christian.
 gisinger@elag.de
DTSTART;TZID=Europe/Berlin:20240516T140000
DTEND;TZID=Europe/Berlin:20240516T170000
LOCATION:Kaiserslautern: Evangelische Arbeitsstelle Bildung und Gesellschaf
 t
SUMMARY:Trau‘ dich durchs Netz – Digitale Zivilcourage - Kopie :: (Präsenzw
 orkshop)
URL:https://termine.ekir.de/veranstaltung_im_detail754525.html
END:VEVENT
END:VCALENDAR
