BEGIN:VCALENDAR
VERSION:2.0
PRODID:-//evangelische-termine.de//NONSGML kigkonsult.se iCalcreator 2.18//
CALSCALE:GREGORIAN
METHOD:PUBLISH
X-WR-CALNAME:iCal Evangelische-Termine 19.04.2026
X-WR-CALDESC:iCalender von Evangelische-Termine (19.04.2026)
X-WR-TIMEZONE:Europe/Berlin
X-MS-OLK-FORCEINSPECTOROPEN:TRUE
BEGIN:VTIMEZONE
TZID:Europe/Berlin
BEGIN:STANDARD
DTSTART:19701025T030000
TZOFFSETFROM:+0200
TZOFFSETTO:+0100
RRULE:FREQ=YEARLY;BYDAY=-1SU;BYMONTH=10
TZNAME:CET
END:STANDARD
BEGIN:DAYLIGHT
DTSTART:19700329T020000
TZOFFSETFROM:+0100
TZOFFSETTO:+0200
RRULE:FREQ=YEARLY;BYDAY=-1SU;BYMONTH=3
TZNAME:CEST
END:DAYLIGHT
END:VTIMEZONE
BEGIN:VEVENT
UID:20240118T100000-754535@evangelische-termine.de
DTSTAMP:20260419T211208Z
DESCRIPTION:\nKirchenkreis: überregional\nArt der Veranstaltung: Fortbildun
 gen / Seminare / Vorträge\nKurzbeschreibung / Untertitel: KI in der Bildun
 gsarbeit\nAusführliche Beschreibung: ChatGPT – Ein Tool\, das 2023 die öff
 entliche Aufmerksamkeit im Bereich der künstlichen Intelligenz dominierte.
  Die Möglichkeiten des Chatbots reichen von der Erstellung kurzer Zusammen
 fassungen\, über die Entwicklung von Konzepten bis hin zu simpleren Anfrag
 en wie Rezeptideen oder Witzen. Doch können KI-Tools neben all diesen Mögl
 ichkeiten auch für die Bildungsarbeit eingesetzt werden?\n\nAm 18. Januar 
 werden wir von 10 bis 12 Uhr per Zoom einige KI-Tools unter die Lupe nehme
 n und uns über ihre Möglichkeiten sowie den Einsatz in unseren Veranstaltu
 ngen austauschen. Die Veranstaltung ist in erster Linie an Teilnehmende ge
 richtet die noch wenig Erfahrung mit der Nutzung von Tools wie ChatGPT gem
 acht haben\, diese aber in ihre Veranstaltungsplanung und -gestaltung inte
 grieren wollen.ChatGPT – Ein Tool\, das 2023 die öffentliche Aufmerksamkei
 t im Bereich der künstlichen Intelligenz dominierte. Die Möglichkeiten des
  Chatbots reichen von der Erstellung kurzer Zusammenfassungen\, über die E
 ntwicklung von Konzepten bis hin zu simpleren Anfragen wie Rezeptideen ode
 r Witzen. Doch können KI-Tools neben all diesen Möglichkeiten auch für die
  Bildungsarbeit eingesetzt werden?\n\nAm 18. Januar werden wir von 10 bis 
 12 Uhr per Zoom einige KI-Tools unter die Lupe nehmen und uns über ihre Mö
 glichkeiten sowie den Einsatz in unseren Veranstaltungen austauschen. Die 
 Veranstaltung ist in erster Linie an Teilnehmende gerichtet die noch wenig
  Erfahrung mit der Nutzung von Tools wie ChatGPT gemacht haben\, diese abe
 r in ihre Veranstaltungsplanung und -gestaltung integrieren wollen.\nInter
 netadresse (eigene Infos im Internet): https://elag.de/von-chatgpt-bis-mid
 ourney/\nFörderbereich: Arbeitswelt- und berufsbezogene Weiterbildung\nRef
 erent/in: Christian Gisinger (ELAG)\nAnsprechpartner/in - Leitung: Christi
 an Gisinger\nKosten: kostenlos\nZusatzinformationen: Anmeldung unter https
 ://elag.de/von-chatgpt-bis-midourney/\nAnsprechpartner: Christian Gisinger
  christian.gisinger@elag.de
DTSTART;TZID=Europe/Berlin:20240118T100000
DTEND;TZID=Europe/Berlin:20240118T120000
LOCATION:Internet: nur Internet
SUMMARY:Von ChatGPT bis Midourney :: KI in der Bildungsarbeit
URL:https://termine.ekir.de/veranstaltung_im_detail754535.html
END:VEVENT
END:VCALENDAR
