BEGIN:VCALENDAR
VERSION:2.0
PRODID:-//evangelische-termine.de//NONSGML kigkonsult.se iCalcreator 2.18//
CALSCALE:GREGORIAN
METHOD:PUBLISH
X-WR-CALNAME:iCal Evangelische-Termine 19.04.2026
X-WR-CALDESC:iCalender von Evangelische-Termine (19.04.2026)
X-WR-TIMEZONE:Europe/Berlin
X-MS-OLK-FORCEINSPECTOROPEN:TRUE
BEGIN:VTIMEZONE
TZID:Europe/Berlin
BEGIN:STANDARD
DTSTART:19701025T030000
TZOFFSETFROM:+0200
TZOFFSETTO:+0100
RRULE:FREQ=YEARLY;BYDAY=-1SU;BYMONTH=10
TZNAME:CET
END:STANDARD
BEGIN:DAYLIGHT
DTSTART:19700329T020000
TZOFFSETFROM:+0100
TZOFFSETTO:+0200
RRULE:FREQ=YEARLY;BYDAY=-1SU;BYMONTH=3
TZNAME:CEST
END:DAYLIGHT
END:VTIMEZONE
BEGIN:VEVENT
UID:20240206T190000-754550@evangelische-termine.de
DTSTAMP:20260419T211257Z
DESCRIPTION:\nKirchenkreis: überregional\nArt der Veranstaltung: Fortbildun
 gen / Seminare / Vorträge\nVeranstaltungsort: Ev. Gemeindezentrum Flammers
 feld\nRaiffeisenstr. 48\n57632 Flammersfeld\nKurzbeschreibung / Untertitel
 : Nach einer kurzen Einführung bzw. einem inhaltlichen Impuls werden Meinu
 ngen und Positionen ausgetauscht.\nAusführliche Beschreibung: Unter „Kinde
 swohl“ werden das gesamte Wohlergehen von Kindern und Jugendlichen sowie e
 ine gesunde Entwicklung verstanden. Wohlfahrtverbände warnen unüberhörbar 
 vor Kinderarmut und  Vernachlässigung von Kindern und Jugendlichen in unse
 rer Gesellschaft. Polizei und Staatsanwaltschaft haben immer mehr Fälle vo
 n Kindesmissbrauch aufzuklären. Die Zahl der Familien steigt\, die mit der
  Erziehung ihrer Kinder überfordert sind. Wie steht es um das Wohl von Kin
 dern und Jugendlichen in unserer Gesellschaft? Wir diskutieren mit Vertret
 ern von Diakonie\, Kinderschutzbund und Jugendämtern.\nFörderbereich: Lebe
 nsformen\, Partnerschaft\, Ehe\, Familie\nReferent/in: Pfarrer Karsten Mat
 this\, Pfarrer der Ev. Kirchengemeinde Flammersfeld\nAnsprechpartner/in - 
 Leitung: Karsten Matthis\nKosten: kostenlos\nZusatzinformationen: Anmeldun
 g bis zum 06.02.2023 unter karsten.matthis@ekir.de oder flammersfeld@ekir.
 de
DTSTART;TZID=Europe/Berlin:20240206T190000
DTEND;TZID=Europe/Berlin:20240206T210000
LOCATION:Flammersfeld: Ev. Gemeindezentrum Flammersfeld
SUMMARY:Gesprächskreis Gott und die Welt - Wie steht es um das Wohl unserer
  Kinder? :: Nach einer kurzen Einführung bzw. einem inhaltlichen Impuls we
 rden Meinungen und Positionen ausgetauscht. 
URL:https://termine.ekir.de/veranstaltung_im_detail754550.html
END:VEVENT
END:VCALENDAR
