BEGIN:VCALENDAR
VERSION:2.0
PRODID:-//evangelische-termine.de//NONSGML kigkonsult.se iCalcreator 2.18//
CALSCALE:GREGORIAN
METHOD:PUBLISH
X-WR-CALNAME:iCal Evangelische-Termine 19.04.2026
X-WR-CALDESC:iCalender von Evangelische-Termine (19.04.2026)
X-WR-TIMEZONE:Europe/Berlin
X-MS-OLK-FORCEINSPECTOROPEN:TRUE
BEGIN:VTIMEZONE
TZID:Europe/Berlin
BEGIN:STANDARD
DTSTART:19701025T030000
TZOFFSETFROM:+0200
TZOFFSETTO:+0100
RRULE:FREQ=YEARLY;BYDAY=-1SU;BYMONTH=10
TZNAME:CET
END:STANDARD
BEGIN:DAYLIGHT
DTSTART:19700329T020000
TZOFFSETFROM:+0100
TZOFFSETTO:+0200
RRULE:FREQ=YEARLY;BYDAY=-1SU;BYMONTH=3
TZNAME:CEST
END:DAYLIGHT
END:VTIMEZONE
BEGIN:VEVENT
UID:20240116T190000-754554@evangelische-termine.de
DTSTAMP:20260419T192735Z
DESCRIPTION:\nKirchenkreis: überregional\nArt der Veranstaltung: Fortbildun
 gen / Seminare / Vorträge\nVeranstaltungsort: Ev. Gemeindezentrum Flammers
 feld\nRaiffeisenstr. 48\n57632 Flammersfeld\nKurzbeschreibung / Untertitel
 : Nach einer kurzen Einführung bzw. einem inhaltlichen Impuls werden Meinu
 ngen und Positionen ausgetauscht.\nAusführliche Beschreibung: Dem einen is
 t Kirche viel zu politisch. Dem anderen viel zu unpolitisch. Kirche und St
 aat sind in Deutschland getrennt. Dennoch gibt es Seelsorge in kommunalen 
 Krankenhäusern oder Theologische Fakultäten an staatlichen Hochschulen. Ki
 rchen rufen zur Teilnahme an Wahlen auf und verfassen Denkschriften zu pol
 itischen Themen. Widerspruch erntet Kirche immer dann\, wenn sie ins polit
 ische Tagesgeschäft einmischt. Sollte Kirche sich mehr auf das „Kerngeschä
 ft“ (Gottesdienste\, Seelsorge und Diakonie) konzentrieren oder viel polit
 ischer angesichts weltweiter Herausforderungen werden?\nFörderbereich: Ges
 ellschaft\, Politik und Wirtschaft\nReferent/in: Pfarrer Karsten Matthis\,
  Pfarrer der Ev. Kirchengemeinde Flammersfeld\nAnsprechpartner/in - Leitun
 g: Karsten Matthis\nKosten: kostenlos\nZusatzinformationen: Anmeldung bis 
 16.01.2023 unter karsten.matthis@ekir.de oder flammersfeld@ekir.de
DTSTART;TZID=Europe/Berlin:20240116T190000
DTEND;TZID=Europe/Berlin:20240116T210000
LOCATION:Flammersfeld: Ev. Gemeindezentrum Flammersfeld
SUMMARY:Gesprächskreis Gott und die Welt - Wie politisch darf Kirche sein? 
 :: Nach einer kurzen Einführung bzw. einem inhaltlichen Impuls werden Mein
 ungen und Positionen ausgetauscht. 
URL:https://termine.ekir.de/veranstaltung_im_detail754554.html
END:VEVENT
END:VCALENDAR
