BEGIN:VCALENDAR
VERSION:2.0
PRODID:-//evangelische-termine.de//NONSGML kigkonsult.se iCalcreator 2.18//
CALSCALE:GREGORIAN
METHOD:PUBLISH
X-WR-CALNAME:iCal Evangelische-Termine 19.04.2026
X-WR-CALDESC:iCalender von Evangelische-Termine (19.04.2026)
X-WR-TIMEZONE:Europe/Berlin
X-MS-OLK-FORCEINSPECTOROPEN:TRUE
BEGIN:VTIMEZONE
TZID:Europe/Berlin
BEGIN:STANDARD
DTSTART:19701025T030000
TZOFFSETFROM:+0200
TZOFFSETTO:+0100
RRULE:FREQ=YEARLY;BYDAY=-1SU;BYMONTH=10
TZNAME:CET
END:STANDARD
BEGIN:DAYLIGHT
DTSTART:19700329T020000
TZOFFSETFROM:+0100
TZOFFSETTO:+0200
RRULE:FREQ=YEARLY;BYDAY=-1SU;BYMONTH=3
TZNAME:CEST
END:DAYLIGHT
END:VTIMEZONE
BEGIN:VEVENT
UID:20240220T150000-754561@evangelische-termine.de
DTSTAMP:20260419T211433Z
DESCRIPTION:\nKirchenkreis: überregional\nArt der Veranstaltung: Fortbildun
 gen / Seminare / Vorträge\nVeranstaltungsort: Friedenskirche Ahrweiler\nBu
 rgunderstr. 2\n53474 Ahrweiler\nKurzbeschreibung / Untertitel: Im Rahmen d
 er Ev. Frauenhilfe Ahrweiler lesen wir gemeinsam die Stellen der Bibel\, i
 n denen es um den Wein geht.\nAusführliche Beschreibung: Rhein\, Mosel\, N
 ahe und Ahr – vier der besten Weinbaugebiete prägen unsere Heimat. Die Röm
 er brachten den Wein hierher. Aber seine Geschichte reicht noch weiter zur
 ück. Schon die hebräische Bibel kennt viele Geschichten vom Wein\, und mit
  dem Abendmahl wird der Wein zum erhabenen Sakrament des Glaubens. \nDarum
  soll es an diesem Nachmittag in der Frauenhilfe Ahrweiler gehen. Wir lese
 n gemeinsam die Stellen im Alten und Neuen Testament\, um gesprächsweise i
 hren oftmals tiefgründigen Sinn zu entdecken. Ein Gläschen Wein darf dabei
  nicht fehlen. \nBitte bringen Sie\, wenn möglich\, Ihre eigene Bibel mit.
 \nFörderbereich: Religiöse Bildung\, Religionen\, Theologie\, Ethik\, Gren
 zfragen\nReferent/in: Margit Büttner Pfarrerin und Bildungsreferentin im e
 eb\nAnsprechpartner/in - Leitung: Margit Büttner\nKosten: kostenlos\nZusat
 zinformationen: Gäste von außerhalb melden sich bitte bei mbuettner@eeb-su
 ed.de\n: 
DTSTART;TZID=Europe/Berlin:20240220T150000
DTEND;TZID=Europe/Berlin:20240220T170000
LOCATION:Ahrweiler: Friedenskirche Ahrweiler
SUMMARY:Der Wein erfreut des Menschen Herz. Ein Streifzug durch die Bibel :
 : Im Rahmen der Ev. Frauenhilfe Ahrweiler lesen wir gemeinsam die Stellen 
 der Bibel\, in denen es um den Wein geht. 
URL:https://termine.ekir.de/veranstaltung_im_detail754561.html
END:VEVENT
END:VCALENDAR
