BEGIN:VCALENDAR
VERSION:2.0
PRODID:-//evangelische-termine.de//NONSGML kigkonsult.se iCalcreator 2.18//
CALSCALE:GREGORIAN
METHOD:PUBLISH
X-WR-CALNAME:iCal Evangelische-Termine 19.04.2026
X-WR-CALDESC:iCalender von Evangelische-Termine (19.04.2026)
X-WR-TIMEZONE:Europe/Berlin
X-MS-OLK-FORCEINSPECTOROPEN:TRUE
BEGIN:VTIMEZONE
TZID:Europe/Berlin
BEGIN:STANDARD
DTSTART:19701025T030000
TZOFFSETFROM:+0200
TZOFFSETTO:+0100
RRULE:FREQ=YEARLY;BYDAY=-1SU;BYMONTH=10
TZNAME:CET
END:STANDARD
BEGIN:DAYLIGHT
DTSTART:19700329T020000
TZOFFSETFROM:+0100
TZOFFSETTO:+0200
RRULE:FREQ=YEARLY;BYDAY=-1SU;BYMONTH=3
TZNAME:CEST
END:DAYLIGHT
END:VTIMEZONE
BEGIN:VEVENT
UID:20240117T093000-754562@evangelische-termine.de
DTSTAMP:20260419T211432Z
DESCRIPTION:\nKirchenkreis: überregional\nArt der Veranstaltung: Fortbildun
 gen / Seminare / Vorträge\nVeranstaltungsort: Ev. Gemeindezentrum Lützel\n
 Bodelschwinghstraße 8\n56070 Koblenz\nKurzbeschreibung / Untertitel: Chris
 tliche Palästinenserinnen haben die Liturgie des WGT erarbeitet. Die Sehns
 ucht nach Frieden steht im Mittelpunkt\nAusführliche Beschreibung: Schon i
 m Vorfeld erregt der bevorstehende Weltgebetstag 2024 die Gemüter. Nach de
 m barbarischen Terrorangriff durch die islamistische Palästinenserorganisa
 tion Hamas am 7. Oktober 2023 herrscht blankes Entsetzen. Viele hundert Me
 nschen\, Alte\, Junge\, Männer\, Frauen\, Kinder wurden willkürlich auf de
 r Straße\, bei einem Musikfestival oder bei sich zuhause überfallen und er
 mordet. Nie zuvor seit dem Holocaust wurden an einem einzigen Tag so viele
  Menschen ermordet\, nur weil sie Israelis\, weil sie Juden waren. Ist die
  Vorstellung vom „Band des Friedens“ nicht pure Illusion? Bei den meisten 
 Menschen\, egal welcher Religion und Abstammung\, wächst die Angst vor ein
 er noch größeren Katastrophe. Aber es gibt eben auch die anderen\, deren e
 inziges Ziel ist\, Israel und die Juden zu vernichten. \nDer Weltgebetstag
  hat sich immer als Band zwischen Christen aller Länder verstanden\, vor a
 llem den Frauen\, die sich informiert und anteilnehmend zum Gebet versamme
 ln. Der Studientag\, der sich 2024 mit den Themen christlicher Palästinens
 erinnen befasst\, darf die aktuelle Entwicklung in Israel nicht ausblenden
 . Wir wissen nicht\, was im Januar\, im März 2024 sein wird. Politische Fr
 agen waren und sind immer Thema beim WGT. Sie dürfen nicht beschwichtigt u
 nd relativiert werden. \nVielleicht wird es in diesem Jahr aber noch wicht
 iger als sonst sein\, den Fokus auf den Frieden zu richten\, den Gott uns 
 schenken will. Nur aus diesem Frieden heraus können wir auf Frieden zwisch
 en Menschen\, gespaltenen Gruppen oder gar Völkern hoffen.\nElemente des S
 tudientages: Länderinformation - Einführung in die Gottesdienstordnung - B
 ibelarbeit -  Gestaltungselemente für den Gottesdienst.\nDieses Jahr wiede
 r mit Mittagessen! Kalte und warme Getränke werden bereitgestellt.\nFörder
 bereich: Abschluss- und schulabschlussbezogene Bildung\nReferent/in: Birgi
 tt Brink und Barbara Peiffer\nModeration: Ulrike Wilke\nAnsprechpartner/in
  - Leitung: Heidemarie Falkenberg\nKosten: 15\,– €\, Barzahlung vor Ort\nZ
 usatzinformationen: Anmeldung bis 08.01.2024 an Heidemarie Falkenberg\nTel
 .: 02642-980641\nE-Mail: huf.falkenberg@t-online.de
DTSTART;TZID=Europe/Berlin:20240117T093000
DTEND;TZID=Europe/Berlin:20240117T163000
LOCATION:Koblenz: Ev. Gemeindezentrum Lützel
SUMMARY:... durch das Band des Friedens. Studientag zum Weltgebetstag 2024 
 aus Palästina :: Christliche Palästinenserinnen haben die Liturgie des WGT
  erarbeitet. Die Sehnsucht nach Frieden steht im Mittelpunkt
URL:https://termine.ekir.de/veranstaltung_im_detail754562.html
END:VEVENT
END:VCALENDAR
