BEGIN:VCALENDAR
VERSION:2.0
PRODID:-//evangelische-termine.de//NONSGML kigkonsult.se iCalcreator 2.18//
CALSCALE:GREGORIAN
METHOD:PUBLISH
X-WR-CALNAME:iCal Evangelische-Termine 19.04.2026
X-WR-CALDESC:iCalender von Evangelische-Termine (19.04.2026)
X-WR-TIMEZONE:Europe/Berlin
X-MS-OLK-FORCEINSPECTOROPEN:TRUE
BEGIN:VTIMEZONE
TZID:Europe/Berlin
BEGIN:STANDARD
DTSTART:19701025T030000
TZOFFSETFROM:+0200
TZOFFSETTO:+0100
RRULE:FREQ=YEARLY;BYDAY=-1SU;BYMONTH=10
TZNAME:CET
END:STANDARD
BEGIN:DAYLIGHT
DTSTART:19700329T020000
TZOFFSETFROM:+0100
TZOFFSETTO:+0200
RRULE:FREQ=YEARLY;BYDAY=-1SU;BYMONTH=3
TZNAME:CEST
END:DAYLIGHT
END:VTIMEZONE
BEGIN:VEVENT
UID:20240207T100000-754563@evangelische-termine.de
DTSTAMP:20260419T211209Z
DESCRIPTION:\nKirchenkreis: überregional\nArt der Veranstaltung: Fortbildun
 gen / Seminare / Vorträge\nVeranstaltungsort: Ev. Gemeindezentrum Hoffnung
 skirche\, Koblenz\nEllingshohl 85\n56076 Koblenz\nKurzbeschreibung / Unter
 titel: Für alle\, die darüber nachdenken\, wie es mit ihrer Bildungsarbeit
  in der Gemeinde weitergehen soll.\nAusführliche Beschreibung: Als kirchli
 che Erwachsenenbildung müssen wir immer wieder neu unseren Standort zwisch
 en öffentlichem Auftrag und kirchlichem\, d.h. „evangelischem“ Auftrag klä
 ren. Machen wir uns unsere Voraussetzungen\, Grundhaltung und Ziele bewuss
 t. \n\nDie Veranstaltung findet im Rahmen eines Gesprächskreises der Ev. K
 irchengemeinde Koblenz-Pfaffendorf statt. Da aber in vielen Gemeinden und 
 Gruppen über die Zukunft ihrer kirchlichen Bildungsangebote nachgedacht wi
 rd\, sind zu der Veranstaltung alle Interessierten eingeladen.\nFörderbere
 ich: Arbeitswelt- und berufsbezogene Weiterbildung\nReferent/in: Margit Bü
 ttner\, Pfarrerin\, Bildungsreferentin\nAnsprechpartner/in - Leitung: Marg
 it Büttner\, Pfarrerin\, Bildungsreferentin\nKosten: kostenlos\nZusatzinfo
 rmationen: Anmeldung nicht erforderlich
DTSTART;TZID=Europe/Berlin:20240207T100000
DTEND;TZID=Europe/Berlin:20240207T120000
LOCATION:Koblenz: Ev. Gemeindezentrum Hoffnungskirche\, Koblenz
SUMMARY:Neben 1000 anderen Akteuren – wozu Evangelische Erwachsenenbildung 
 gebraucht wird. :: Für alle\, die darüber nachdenken\, wie es mit ihrer Bi
 ldungsarbeit in der Gemeinde weitergehen soll.
URL:https://termine.ekir.de/veranstaltung_im_detail754563.html
END:VEVENT
END:VCALENDAR
