BEGIN:VCALENDAR
VERSION:2.0
PRODID:-//evangelische-termine.de//NONSGML kigkonsult.se iCalcreator 2.18//
CALSCALE:GREGORIAN
METHOD:PUBLISH
X-WR-CALNAME:iCal Evangelische-Termine 20.04.2026
X-WR-CALDESC:iCalender von Evangelische-Termine (20.04.2026)
X-WR-TIMEZONE:Europe/Berlin
X-MS-OLK-FORCEINSPECTOROPEN:TRUE
BEGIN:VTIMEZONE
TZID:Europe/Berlin
BEGIN:STANDARD
DTSTART:19701025T030000
TZOFFSETFROM:+0200
TZOFFSETTO:+0100
RRULE:FREQ=YEARLY;BYDAY=-1SU;BYMONTH=10
TZNAME:CET
END:STANDARD
BEGIN:DAYLIGHT
DTSTART:19700329T020000
TZOFFSETFROM:+0100
TZOFFSETTO:+0200
RRULE:FREQ=YEARLY;BYDAY=-1SU;BYMONTH=3
TZNAME:CEST
END:DAYLIGHT
END:VTIMEZONE
BEGIN:VEVENT
UID:20240920T090000-754565@evangelische-termine.de
DTSTAMP:20260420T000828Z
DESCRIPTION:\nKirchenkreis: überregional\nArt der Veranstaltung: Fortbildun
 gen / Seminare / Vorträge\nVeranstaltungsort: Stadthaus Alter Bahnhof (Saa
 l Montroyal)\nAm Bahnhof 5\n56841 Traben-Trarbach\nKurzbeschreibung / Unte
 rtitel: In einem interaktiven Tagesseminar ergründen wir am 20.09.24 frühk
 indliche Mehrsprachigkeit in Familien mit Migrationshintergrund.\nAusführl
 iche Beschreibung: Unter der Leitung von Frau Dr. Yasemin Uçan erkunden wi
 r die vielfältigen Praktiken von Mehrsprachigkeit in Familien im Kontext v
 on (Flucht-)Migration. Wir erarbeiten uns gemeinsam die Grundlagen des kin
 dlichen Mehrsprachenerwerbs und hinterfragen sprachbezogene Normalitätsann
 ahmen. \nDas Seminar lädt zu einem Perspektivenwechsel ein\, indem defizit
 orientierte Annahmen über migrationsbedingte Mehrsprachigkeit hinterfragt 
 werden und somit ein wertschätzender Blick auf mehrsprachige Ressourcen er
 folgen kann. Wir beleuchten das Spannungsverhältnis zwischen den mehrsprac
 higen Lebenswelten von Familien und Bildungseinrichtungen\, in denen Einsp
 rachigkeit immer noch als „natürlicher Normalfall“ sei angenommen wird. \n
 Gemeinsam lernen wir das sprachpädagogische Konzept des Translanguaging ke
 nnen: Mehrsprachige Sprecher_innen werden hier mit ihren gesamten sprachli
 chen Ressourcen und nicht entlang von Einzelsprachen betrachtet. Außerdem 
 werden aktuelle Ansätze der Mehrsprachigkeitsforschung vorgestellt.\nInter
 netadresse (eigene Infos im Internet): http://www.vielfalt-plus.de\nFörder
 bereich: Abschluss- und schulabschlussbezogene Bildung\nReferent/in: Dr. Y
 asemin Uçan\, wissenschaftliche Mitarbeiterin am Fachgebiet Sozialisation 
 mit dem Schwerpunkt Migration und Interkulturelle Bildung\, Universität Kö
 ln. Frau Uçan erhielt 2022 den Augsburger Wissenschaftspreis für interkult
 urelle Studien für ihre Dissertation über mehrsprachige Erziehung.\nKosten
 : 75\,– € Normalpreis\, Rabatte bei Mehrfachbuchung und für Azubis/Studier
 ende\nZusatzinformationen: Vielfalt Plus⁺: Fortbildungen für Transkulturel
 le Kompetenz und Diversity\nAnmeldung via www.vielfalt-plus.de bis zum 06.
 09.2024
DTSTART;TZID=Europe/Berlin:20240920T090000
DTEND;TZID=Europe/Berlin:20240920T160000
LOCATION:Traben-Trarbach: Stadthaus Alter Bahnhof (Saal Montroyal)
SUMMARY:Familiäre Mehrsprachigkeit und frühkindlicher Spracherwerb: Sprachb
 iographien positiv beeinflussen :: In einem interaktiven Tagesseminar ergr
 ünden wir am 20.09.24 frühkindliche Mehrsprachigkeit in Familien mit Migra
 tionshintergrund.
URL:https://termine.ekir.de/veranstaltung_im_detail754565.html
END:VEVENT
END:VCALENDAR
