BEGIN:VCALENDAR
VERSION:2.0
PRODID:-//evangelische-termine.de//NONSGML kigkonsult.se iCalcreator 2.18//
CALSCALE:GREGORIAN
METHOD:PUBLISH
X-WR-CALNAME:iCal Evangelische-Termine 19.04.2026
X-WR-CALDESC:iCalender von Evangelische-Termine (19.04.2026)
X-WR-TIMEZONE:Europe/Berlin
X-MS-OLK-FORCEINSPECTOROPEN:TRUE
BEGIN:VTIMEZONE
TZID:Europe/Berlin
BEGIN:STANDARD
DTSTART:19701025T030000
TZOFFSETFROM:+0200
TZOFFSETTO:+0100
RRULE:FREQ=YEARLY;BYDAY=-1SU;BYMONTH=10
TZNAME:CET
END:STANDARD
BEGIN:DAYLIGHT
DTSTART:19700329T020000
TZOFFSETFROM:+0100
TZOFFSETTO:+0200
RRULE:FREQ=YEARLY;BYDAY=-1SU;BYMONTH=3
TZNAME:CEST
END:DAYLIGHT
END:VTIMEZONE
BEGIN:VEVENT
UID:20240309T180000-754623@evangelische-termine.de
DTSTAMP:20260419T204557Z
DESCRIPTION:\nKirchenkreis: überregional\nArt der Veranstaltung: Fortbildun
 gen / Seminare / Vorträge\nVeranstaltungsort: Autobahn- und Radwegskirche 
 St. Paul in Wittlich\nArnold-Janssen-Straße 1\n54516 Wittlich\nAusführlich
 e Beschreibung: Papst Franziskus prangerte 2013 auf der Mittelmeerinsel La
 mpedusa an\, dass das Mittelmeer nicht zum Massengrab werden dürfe. 2015 w
 ar mit den Fluchtbewegungen aus Nah-Ost eine Zäsur. Seitdem ist der politi
 sche Druck gewachsen\; die EU versucht sich an Lösungen und findet keine E
 inigkeit. Die Empörung über Bootsunglücke und Flüchtlingslager flammt imme
 r wieder auf und das Mittelmeer ist noch immer die tödlichste Grenze der W
 elt.\nDer Referent beleuchtet vor dem Hintergrund seiner Arbeit in West- u
 nd Nordafrika sowie in Berlin diese Entwicklungen und zeigt auf\, welche R
 olle Entwicklungszusammenarbeit und Politik spielen können.\nJonas Wipfler
 \, *1983 in Trier\, Experte für Flucht und Migra-tion\, leitet das heute d
 as Büro von Misereor in Berlin.\nInternetadresse (eigene Infos im Internet
 ): http://www.tqt-trier.de\nFörderbereich: Abschluss- und schulabschlussbe
 zogene Bildung\nReferent/in: Jonas Wipfler\, Misereor\nAnsprechpartner/in 
 - Leitung: www.tqt-trier.de\, http://www.autobahnkirche-stpaul.de/index.ht
 ml\nKosten: kostenlos\nZusatzinformationen: Anmeldung ist nicht erforderli
 ch.
DTSTART;TZID=Europe/Berlin:20240309T180000
DTEND;TZID=Europe/Berlin:20240309T190000
LOCATION:Wittlich: Autobahn- und Radwegskirche St. Paul in Wittlich
SUMMARY:Entwicklung oder Migration?Entwicklung und Migration!  Die Wanderun
 gsbewegungen zwischen Afrika und Europa der letzten 20 Jahre.
URL:https://termine.ekir.de/veranstaltung_im_detail754623.html
END:VEVENT
END:VCALENDAR
