BEGIN:VCALENDAR
VERSION:2.0
PRODID:-//evangelische-termine.de//NONSGML kigkonsult.se iCalcreator 2.18//
CALSCALE:GREGORIAN
METHOD:PUBLISH
X-WR-CALNAME:iCal Evangelische-Termine 19.04.2026
X-WR-CALDESC:iCalender von Evangelische-Termine (19.04.2026)
X-WR-TIMEZONE:Europe/Berlin
X-MS-OLK-FORCEINSPECTOROPEN:TRUE
BEGIN:VTIMEZONE
TZID:Europe/Berlin
BEGIN:STANDARD
DTSTART:19701025T030000
TZOFFSETFROM:+0200
TZOFFSETTO:+0100
RRULE:FREQ=YEARLY;BYDAY=-1SU;BYMONTH=10
TZNAME:CET
END:STANDARD
BEGIN:DAYLIGHT
DTSTART:19700329T020000
TZOFFSETFROM:+0100
TZOFFSETTO:+0200
RRULE:FREQ=YEARLY;BYDAY=-1SU;BYMONTH=3
TZNAME:CEST
END:DAYLIGHT
END:VTIMEZONE
BEGIN:VEVENT
UID:20240310T110000-754624@evangelische-termine.de
DTSTAMP:20260419T204731Z
DESCRIPTION:\nKirchenkreis: überregional\nArt der Veranstaltung: Fortbildun
 gen / Seminare / Vorträge\nVeranstaltungsort: Theologisches Quartett Trier
  e.V.\nDomfreihof 1b\n54290 Trier\nAusführliche Beschreibung: Papst Franzi
 skus prangerte 2013 auf der Mittelmeerinsel Lampedusa an\, dass das Mittel
 meer nicht zum Massengrab werden dürfe. 2015 war mit den Fluchtbewegungen 
 aus Nah-Ost eine Zäsur. Seitdem ist der politische Druck gewachsen\; die E
 U versucht sich an Lösungen und findet keine Einigkeit. Die Empörung über 
 Bootsunglücke und Flüchtlingslager flammt immer wieder auf und das Mittelm
 eer ist noch immer die tödlichste Grenze der Welt.\nDer Referent beleuchte
 t vor dem Hintergrund seiner Arbeit in West- und Nordafrika sowie in Berli
 n diese Entwicklungen und zeigt auf\, welche Rolle Entwicklungszusammenarb
 eit und Politik spielen können.\nJonas Wipfler\, *1983 in Trier\, Experte 
 für Flucht und Migra-tion\, leitet das heute das Büro von Misereor in Berl
 in.\nInternetadresse (eigene Infos im Internet): http://www.tqt-trier.de\n
 Förderbereich: Abschluss- und schulabschlussbezogene Bildung\nReferent/in:
  Jonas Wipfler\, Misereor\nAnsprechpartner/in - Leitung: www.tqt-trier.de\
 , http://www.autobahnkirche-stpaul.de/index.html\nKosten: 7\,– € (für Nich
 tmitglieder)\nZusatzinformationen: Anmeldung ist nicht erforderlich.
DTSTART;TZID=Europe/Berlin:20240310T110000
DTEND;TZID=Europe/Berlin:20240310T120000
LOCATION:Trier: Theologisches Quartett Trier e.V.
SUMMARY:Entwicklung oder Migration?Entwicklung und Migration!  Die Wanderun
 gsbewegungen zwischen Afrika und Europa der letzten 20 Jahre. - Kopie
URL:https://termine.ekir.de/veranstaltung_im_detail754624.html
END:VEVENT
END:VCALENDAR
