BEGIN:VCALENDAR
VERSION:2.0
PRODID:-//evangelische-termine.de//NONSGML kigkonsult.se iCalcreator 2.18//
CALSCALE:GREGORIAN
METHOD:PUBLISH
X-WR-CALNAME:iCal Evangelische-Termine 19.04.2026
X-WR-CALDESC:iCalender von Evangelische-Termine (19.04.2026)
X-WR-TIMEZONE:Europe/Berlin
X-MS-OLK-FORCEINSPECTOROPEN:TRUE
BEGIN:VTIMEZONE
TZID:Europe/Berlin
BEGIN:STANDARD
DTSTART:19701025T030000
TZOFFSETFROM:+0200
TZOFFSETTO:+0100
RRULE:FREQ=YEARLY;BYDAY=-1SU;BYMONTH=10
TZNAME:CET
END:STANDARD
BEGIN:DAYLIGHT
DTSTART:19700329T020000
TZOFFSETFROM:+0100
TZOFFSETTO:+0200
RRULE:FREQ=YEARLY;BYDAY=-1SU;BYMONTH=3
TZNAME:CEST
END:DAYLIGHT
END:VTIMEZONE
BEGIN:VEVENT
UID:20240203T180000-754625@evangelische-termine.de
DTSTAMP:20260419T211322Z
DESCRIPTION:\nKirchenkreis: überregional\nArt der Veranstaltung: Fortbildun
 gen / Seminare / Vorträge\nVeranstaltungsort: Autobahn- und Radwegskirche 
 St. Paul in Wittlich\nArnold-Janssen-Straße 1\n54516 Wittlich\nAusführlich
 e Beschreibung: Das Verhältnis von Humor und Religion ist kompliziert. Dem
  Bodenpersonal Gottes wird traditionell eine geradezu lei-denschaftliche H
 umorlosigkeit unterstellt\; in der jüngeren Vergangenheit haben religiöse 
 Karikaturen und die Reaktio-nen darauf die Frage erneut mit Brisanz aufgew
 orfen.\nDer Vortrag widmet sich dem Thema aus der Sicht des Kir-chengeschi
 chtlers\, des Pfarrers und Theologen sowie des Cartoonisten\, der oft selb
 st vor der Frage steht: Darf ich das? Wir begeben uns auf die Suche nach H
 umor in der Bi-bel\, in Bekenntnis\, Leben und Außenwirkung der Kirchen un
 d nach dem Lachen Gottes.\nHolger Pyka\, *1982 in Köln\, ist Pfarrer in Wu
 ppertal-Elber-feld und Dozent am Predigerseminar. In seiner Dissertation u
 ntersuchte er das Verhältnis von Kirche und Karneval.\nInternetadresse (ei
 gene Infos im Internet): https://autobahnkirche-wittlich.mobirisesite.com/
 \nFörderbereich: Abschluss- und schulabschlussbezogene Bildung\nReferent/i
 n: Dr. Holger Pyka\, Pfarrer\nKosten: kostenlos\nZusatzinformationen: Anme
 ldung nicht erforderliche
DTSTART;TZID=Europe/Berlin:20240203T180000
DTEND;TZID=Europe/Berlin:20240203T190000
LOCATION:Wittlich: Autobahn- und Radwegskirche St. Paul in Wittlich
SUMMARY:Religion und Humor. Gedankliche und zeichnerische Skizzen
URL:https://termine.ekir.de/veranstaltung_im_detail754625.html
END:VEVENT
END:VCALENDAR
