BEGIN:VCALENDAR
VERSION:2.0
PRODID:-//evangelische-termine.de//NONSGML kigkonsult.se iCalcreator 2.18//
CALSCALE:GREGORIAN
METHOD:PUBLISH
X-WR-CALNAME:iCal Evangelische-Termine 19.04.2026
X-WR-CALDESC:iCalender von Evangelische-Termine (19.04.2026)
X-WR-TIMEZONE:Europe/Berlin
X-MS-OLK-FORCEINSPECTOROPEN:TRUE
BEGIN:VTIMEZONE
TZID:Europe/Berlin
BEGIN:STANDARD
DTSTART:19701025T030000
TZOFFSETFROM:+0200
TZOFFSETTO:+0100
RRULE:FREQ=YEARLY;BYDAY=-1SU;BYMONTH=10
TZNAME:CET
END:STANDARD
BEGIN:DAYLIGHT
DTSTART:19700329T020000
TZOFFSETFROM:+0100
TZOFFSETTO:+0200
RRULE:FREQ=YEARLY;BYDAY=-1SU;BYMONTH=3
TZNAME:CEST
END:DAYLIGHT
END:VTIMEZONE
BEGIN:VEVENT
UID:20240204T110000-754626@evangelische-termine.de
DTSTAMP:20260419T211322Z
DESCRIPTION:\nKirchenkreis: überregional\nArt der Veranstaltung: Fortbildun
 gen / Seminare / Vorträge\nVeranstaltungsort: Theologisches Quartett Trier
  e.V.\nDomfreihof 1b\n54290 Trier\nAusführliche Beschreibung: Das Verhältn
 is von Humor und Religion ist kompliziert. Dem Bodenpersonal Gottes wird t
 raditionell eine geradezu lei-denschaftliche Humorlosigkeit unterstellt\; 
 in der jüngeren Vergangenheit haben religiöse Karikaturen und die Reaktio-
 nen darauf die Frage erneut mit Brisanz aufgeworfen.\nDer Vortrag widmet s
 ich dem Thema aus der Sicht des Kir-chengeschichtlers\, des Pfarrers und T
 heologen sowie des Cartoonisten\, der oft selbst vor der Frage steht: Darf
  ich das? Wir begeben uns auf die Suche nach Humor in der Bi-bel\, in Beke
 nntnis\, Leben und Außenwirkung der Kirchen und nach dem Lachen Gottes.\nH
 olger Pyka\, *1982 in Köln\, ist Pfarrer in Wuppertal-Elber-feld und Dozen
 t am Predigerseminar. In seiner Dissertation untersuchte er das Verhältnis
  von Kirche und Karneval.\nInternetadresse (eigene Infos im Internet): htt
 p://www.tqt-trier.de\nFörderbereich: Abschluss- und schulabschlussbezogene
  Bildung\nReferent/in: Dr. Holger Pyka\, Pfarrer\nKosten: 7\,– € (für Nich
 tmitglieder)\nZusatzinformationen: Anmeldung nicht erforderliche
DTSTART;TZID=Europe/Berlin:20240204T110000
DTEND;TZID=Europe/Berlin:20240204T120000
LOCATION:Trier: Theologisches Quartett Trier e.V.
SUMMARY:Religion und Humor. Gedankliche und zeichnerische Skizzen - Kopie
URL:https://termine.ekir.de/veranstaltung_im_detail754626.html
END:VEVENT
END:VCALENDAR
