BEGIN:VCALENDAR
VERSION:2.0
PRODID:-//evangelische-termine.de//NONSGML kigkonsult.se iCalcreator 2.18//
CALSCALE:GREGORIAN
METHOD:PUBLISH
X-WR-CALNAME:iCal Evangelische-Termine 20.04.2026
X-WR-CALDESC:iCalender von Evangelische-Termine (20.04.2026)
X-WR-TIMEZONE:Europe/Berlin
X-MS-OLK-FORCEINSPECTOROPEN:TRUE
BEGIN:VTIMEZONE
TZID:Europe/Berlin
BEGIN:STANDARD
DTSTART:19701025T030000
TZOFFSETFROM:+0200
TZOFFSETTO:+0100
RRULE:FREQ=YEARLY;BYDAY=-1SU;BYMONTH=10
TZNAME:CET
END:STANDARD
BEGIN:DAYLIGHT
DTSTART:19700329T020000
TZOFFSETFROM:+0100
TZOFFSETTO:+0200
RRULE:FREQ=YEARLY;BYDAY=-1SU;BYMONTH=3
TZNAME:CEST
END:DAYLIGHT
END:VTIMEZONE
BEGIN:VEVENT
UID:20240427T100000-754627@evangelische-termine.de
DTSTAMP:20260419T223844Z
DESCRIPTION:\nKirchenkreis: überregional\nVeranstaltungsort: Ev. Gemeindeha
 us Remagen\nMarktstraße 25\n53424 Remagen\nKurzbeschreibung / Untertitel: 
 Qualifizierungskurs für neue Büchereimitarbeitende und für alle\, die ihr 
 Wissen auffrischen möchten und Interesse haben an Kinder- und Jugendlitera
 tur.\nAusführliche Beschreibung: An diesem Studientag erhalten Sie Informa
 tionen zur Sprach- und Leseentwicklung vom ersten Wort-/Pappbilderbuch bis
  zum Jugendbuch anhand aktueller Beispiele. Wir sprechen über die Pflichtt
 itel\, die Sie vor dem Studientag bitte lesen und zum Seminar mitbringen\,
  entwickeln gemeinsam Bewertungskriterien und überlegen\, welche (kleinen)
  Veranstaltungen oder Aktionen mit diesen Büchern durchgeführt werden könn
 en. Welche Pflichttitel zu lesen sind\, erfahren Sie nach Ihrer Anmeldung\
 , spätestens Mitte März 2024. \nBei dieser präsenten Veranstaltung haben w
 ir die Möglichkeit\, uns in den Pausen über weitere Büchereithemen auszuta
 uschen.\nFörderbereich: Sonstiges\nReferent/in: Simone Jacken\, Kinder- un
 d Jugendbuchexpertin (Buch zu Besuch)\nAnsprechpartner/in - Leitung: Helen
 a Schäuble (Bildungsreferentin im eeb für Büchereiarbeit und Leiterin eine
 r EÖB im Rheinland)\nKosten: 20\,– € ohne Verpflegung\nZusatzinformationen
 : Verbindliche Anmeldung bis 29.03.24 über das hinterlegte Anmeldeformular
 .\n: \nAnsprechpartner: Helena Schäuble anmeldung@eeb-sued.de\nTelefon 067
 61/7018\nwww.eeb-sued.de
DTSTART;TZID=Europe/Berlin:20240427T100000
DTEND;TZID=Europe/Berlin:20240427T170000
LOCATION:Remagen: Ev. Gemeindehaus Remagen
SUMMARY:- ABGESAGT - Fit für die Büchereiarbeit Modul Kinder- und Jugendlit
 eratur :: Qualifizierungskurs für neue Büchereimitarbeitende und für alle\
 , die ihr Wissen auffrischen möchten und Interesse haben an Kinder- und Ju
 gendliteratur
URL:https://termine.ekir.de/veranstaltung_im_detail754627.html
END:VEVENT
END:VCALENDAR
