BEGIN:VCALENDAR
VERSION:2.0
PRODID:-//evangelische-termine.de//NONSGML kigkonsult.se iCalcreator 2.18//
CALSCALE:GREGORIAN
METHOD:PUBLISH
X-WR-CALNAME:iCal Evangelische-Termine 20.04.2026
X-WR-CALDESC:iCalender von Evangelische-Termine (20.04.2026)
X-WR-TIMEZONE:Europe/Berlin
X-MS-OLK-FORCEINSPECTOROPEN:TRUE
BEGIN:VTIMEZONE
TZID:Europe/Berlin
BEGIN:STANDARD
DTSTART:19701025T030000
TZOFFSETFROM:+0200
TZOFFSETTO:+0100
RRULE:FREQ=YEARLY;BYDAY=-1SU;BYMONTH=10
TZNAME:CET
END:STANDARD
BEGIN:DAYLIGHT
DTSTART:19700329T020000
TZOFFSETFROM:+0100
TZOFFSETTO:+0200
RRULE:FREQ=YEARLY;BYDAY=-1SU;BYMONTH=3
TZNAME:CEST
END:DAYLIGHT
END:VTIMEZONE
BEGIN:VEVENT
UID:20240417T173000-754628@evangelische-termine.de
DTSTAMP:20260419T223740Z
DESCRIPTION:\nKirchenkreis: überregional\nArt der Veranstaltung: Fortbildun
 gen / Seminare / Vorträge\nKurzbeschreibung / Untertitel: Werbematerialien
  für Ihre Bücherei erstellen mit Canva.\nAusführliche Beschreibung: Mit de
 m kostenlosen online Tool Canva können ganz einfach kreative Werbematerial
 ien für die Öffentlichkeitsarbeit Ihrer Bücherei erstellt werden. In diese
 m Workshop zeigen wir Ihnen einige Grundlagen für die Erstellung von z.B. 
 Flyern und Plakaten sowie von Werbemitteln\, die digital eingesetzt werden
  können.\nZur Info: Die Pro-Version von Canva kann inzwischen von gemeinnü
 tzigen Institutionen (z.B. Kirchengemeinden) kostenfrei genutzt werden und
  bietet noch mehr Möglichkeiten der Gestaltung.\nFörderbereich: Arbeitswel
 t- und berufsbezogene Weiterbildung\nReferent/in: Carola Schick (Bildungsr
 eferentin im eeb und Expertin für Digitales) und Helena Schäuble (Bildungs
 referentin im eeb für die Büchereiarbeit und Leiterin einer EÖB im Rheinla
 nd)\nAnsprechpartner/in - Leitung: Helena Schäuble\nKosten: 20\,- €\nZusat
 zinformationen: Termin 20.03.2024: Verbindliche Anmeldung bis 13.03.2024 ü
 ber das hinterlegte Anmeldeformular.\n\nTermin 17.04.2024: Verbindliche An
 meldung bis 10.04.2024 über das hinterlegte Anmeldeformular.\n: \nAnsprech
 partner: Helena Schäuble anmeldung@eeb-sued.de\nTelefon 06761/7018\nwww.ee
 b-sued.de
DTSTART;TZID=Europe/Berlin:20240417T173000
DTEND;TZID=Europe/Berlin:20240417T193000
LOCATION:Internet: nur Internet
SUMMARY:Workshop: Canva für Büchereien :: Werbematerialien für Ihre Büchere
 i erstellen mit Canva
URL:https://termine.ekir.de/veranstaltung_im_detail754628.html
END:VEVENT
END:VCALENDAR
