BEGIN:VCALENDAR
VERSION:2.0
PRODID:-//evangelische-termine.de//NONSGML kigkonsult.se iCalcreator 2.18//
CALSCALE:GREGORIAN
METHOD:PUBLISH
X-WR-CALNAME:iCal Evangelische-Termine 19.04.2026
X-WR-CALDESC:iCalender von Evangelische-Termine (19.04.2026)
X-WR-TIMEZONE:Europe/Berlin
X-MS-OLK-FORCEINSPECTOROPEN:TRUE
BEGIN:VTIMEZONE
TZID:Europe/Berlin
BEGIN:STANDARD
DTSTART:19701025T030000
TZOFFSETFROM:+0200
TZOFFSETTO:+0100
RRULE:FREQ=YEARLY;BYDAY=-1SU;BYMONTH=10
TZNAME:CET
END:STANDARD
BEGIN:DAYLIGHT
DTSTART:19700329T020000
TZOFFSETFROM:+0100
TZOFFSETTO:+0200
RRULE:FREQ=YEARLY;BYDAY=-1SU;BYMONTH=3
TZNAME:CEST
END:DAYLIGHT
END:VTIMEZONE
BEGIN:VEVENT
UID:20240224T100000-754629@evangelische-termine.de
DTSTAMP:20260419T211213Z
DESCRIPTION:\nKirchenkreis: überregional\nArt der Veranstaltung: Fortbildun
 gen / Seminare / Vorträge\nVeranstaltungsort: Ev. öffentliche Bücherei Dor
 magen\nOstpreußenallee 5\n41539 Dormagen\nKurzbeschreibung / Untertitel: Q
 ualifizierungskurs für neue Büchereimitarbeitende und für alle\, die ihr W
 issen auffrischen möchten.\nAusführliche Beschreibung: An diesem präsenten
  Studientag beschäftigen wir uns mit der Öffentlichkeitsarbeit Ihrer Büche
 rei. Sie lernen die drei Säulen der Öffentlichkeitsarbeit kennen\, wir spr
 echen über die rechtlichen Aspekte\, die verbunden sind mit diesem Bereich
  Ihrer Arbeit und entwickeln einige praktische Ideen\, die wir in Gruppen 
 umsetzen werden.\nBei dieser präsenten Veranstaltung haben wir die Möglich
 keit\, uns in den Pausen über weitere Büchereithemen auszutauschen.\nFörde
 rbereich: Arbeitswelt- und berufsbezogene Weiterbildung\nReferent/in: Helg
 a Schwarze\nAnsprechpartner/in - Leitung: Helena Schäuble\nKosten: 20\,– €
  ohne Verpflegung\nZusatzinformationen: Verbindliche Anmeldung bis 09.02.2
 024 über das hinterlegte Anmeldeformular.\n: \nAnsprechpartner: Helena Sch
 äuble anmeldung@eeb-sued.de\nTelefon 06761/7018\nwww.eeb-sued.de
DTSTART;TZID=Europe/Berlin:20240224T100000
DTEND;TZID=Europe/Berlin:20240224T170000
LOCATION:Dormagen: Ev. öffentliche Bücherei Dormagen
SUMMARY:Fit für die Büchereiarbeit Modul Öffentlichkeitsarbeit :: Qualifizi
 erungskurs für neue Büchereimitarbeitende und für alle\, die ihr Wissen au
 ffrischen möchten.
URL:https://termine.ekir.de/veranstaltung_im_detail754629.html
END:VEVENT
END:VCALENDAR
