BEGIN:VCALENDAR
VERSION:2.0
PRODID:-//evangelische-termine.de//NONSGML kigkonsult.se iCalcreator 2.18//
CALSCALE:GREGORIAN
METHOD:PUBLISH
X-WR-CALNAME:iCal Evangelische-Termine 19.04.2026
X-WR-CALDESC:iCalender von Evangelische-Termine (19.04.2026)
X-WR-TIMEZONE:Europe/Berlin
X-MS-OLK-FORCEINSPECTOROPEN:TRUE
BEGIN:VTIMEZONE
TZID:Europe/Berlin
BEGIN:STANDARD
DTSTART:19701025T030000
TZOFFSETFROM:+0200
TZOFFSETTO:+0100
RRULE:FREQ=YEARLY;BYDAY=-1SU;BYMONTH=10
TZNAME:CET
END:STANDARD
BEGIN:DAYLIGHT
DTSTART:19700329T020000
TZOFFSETFROM:+0100
TZOFFSETTO:+0200
RRULE:FREQ=YEARLY;BYDAY=-1SU;BYMONTH=3
TZNAME:CEST
END:DAYLIGHT
END:VTIMEZONE
BEGIN:VEVENT
UID:20240313T090000-754630@evangelische-termine.de
DTSTAMP:20260419T204557Z
DESCRIPTION:\nKirchenkreis: überregional\nArt der Veranstaltung: Fortbildun
 gen / Seminare / Vorträge\nVeranstaltungsort: SCHMIT-Z e.V.\nMustorstraße 
 4\n54290 Trier\nKurzbeschreibung / Untertitel: Wir lernen mehr über sexuel
 le und geschlechtliche Vielfalt\, zur Unterstützung von Regenbogenfamilien
  und zu Anlauf- und Beratungsstellen.\nAusführliche Beschreibung: Wir lern
 en in diesem Seminar die grundlegenden Begriffe rund um sexuelle und gesch
 lechtliche Vielfalt und widmen uns der Diskussion\, wie eine angstfreie At
 mosphäre und ein Klima der Wertschätzung entstehen kann. Besonders angespr
 ochen sind Einrichtungen\, die queere Kinder und Jugendliche sowie Regenbo
 genfamilien unterstützen möchten. Unter der Leitung von Vincent Maron\, Ko
 ordinator des landesweiten Projektes „Familienvielfalt“\, eignen wir uns W
 issen über lesbische\, schwule\, bisexuelle\, transidente und intergeschle
 chtliche Menschen als Teil unserer gesellschaftlichen Vielfalt an.\n\nWir 
 nehmen wir auch die derzeitige Situation in den Blick: Immer noch erleben 
 queere Menschen in vielen Lebensbereichen Diskriminierung. Familie und Fre
 undeskreis erwarten in der Regel eine heteronormative Entwicklung\, Gleich
 es gilt für Ausbildung und Arbeitsplatz. Wir erarbeiten uns Handlungsmögli
 chkeiten gegen Ablehnung aufgrund der sexuellen und geschlechtlichen Ident
 ität und erhalten Informationen zu Anlauf- und Beratungsstellen.\nInternet
 adresse (eigene Infos im Internet): http://www.vielfalt-plus.de\nFörderber
 eich: Lebensformen\, Partnerschaft\, Ehe\, Familie\nReferent/in: Vincent M
 aron\nAnsprechpartner/in - Leitung: Vincent Maron\, Geschäftsführer des SC
 HMIT-Z e.V.\nKosten: 75\,– € Normalpreis\, Rabatte bei Mehrfachbuchung und
  für Azubis/Studierende\nZusatzinformationen: Anmeldung via www.vielfalt-p
 lus.de\nbis zum 28.02.2024
DTSTART;TZID=Europe/Berlin:20240313T090000
DTEND;TZID=Europe/Berlin:20240313T160000
LOCATION:Trier: SCHMIT-Z e.V.
SUMMARY:Understanding Queerness: Sexuelle und geschlechtliche Vielfalt :: W
 ir lernen mehr über sexuelle und geschlechtliche Vielfalt\, zur Unterstütz
 ung von Regenbogenfamilien und zu Anlauf- und Beratungsstellen.
URL:https://termine.ekir.de/veranstaltung_im_detail754630.html
END:VEVENT
END:VCALENDAR
