BEGIN:VCALENDAR
VERSION:2.0
PRODID:-//evangelische-termine.de//NONSGML kigkonsult.se iCalcreator 2.18//
CALSCALE:GREGORIAN
METHOD:PUBLISH
X-WR-CALNAME:iCal Evangelische-Termine 19.04.2026
X-WR-CALDESC:iCalender von Evangelische-Termine (19.04.2026)
X-WR-TIMEZONE:Europe/Berlin
X-MS-OLK-FORCEINSPECTOROPEN:TRUE
BEGIN:VTIMEZONE
TZID:Europe/Berlin
BEGIN:STANDARD
DTSTART:19701025T030000
TZOFFSETFROM:+0200
TZOFFSETTO:+0100
RRULE:FREQ=YEARLY;BYDAY=-1SU;BYMONTH=10
TZNAME:CET
END:STANDARD
BEGIN:DAYLIGHT
DTSTART:19700329T020000
TZOFFSETFROM:+0100
TZOFFSETTO:+0200
RRULE:FREQ=YEARLY;BYDAY=-1SU;BYMONTH=3
TZNAME:CEST
END:DAYLIGHT
END:VTIMEZONE
BEGIN:VEVENT
UID:20240306T000000-754631@evangelische-termine.de
DTSTAMP:20260419T204731Z
DESCRIPTION:\nKirchenkreis: überregional\nArt der Veranstaltung: Fortbildun
 gen / Seminare / Vorträge\nKurzbeschreibung / Untertitel: Gelegenheit zusa
 mmen mit bereits tätigen Engagierten erste Erfahrungen austauschen.\nAusfü
 hrliche Beschreibung: Die öffentliche Diskussion um einen nachhaltigen und
  zukunftsfähigen Lebenswandel verlangt von uns Veränderungen. Die ökofaire
  Beschaffung kann hierzu einen entscheidenden Beitrag leisten. Zunächst be
 schäftigen wir uns in einem Online-Seminar mit den Grundlagen der ökofaire
 n Beschaffung und den Zusammenhängen zum Klimaschutz. Sie erfahren\, anhan
 d von guten Beispielen aus der Praxis\, wie ökofaire Beschaffung funktioni
 eren kann. Wir diskutieren\, welche Hindernisse bestehen und erarbeiten er
 ste Handlungsperspektiven. In einem anschließenden Online-Workshop haben S
 ie dann die Gelegenheit zusammen mit bereits tätigen Engagierten erste Erf
 ahrungen auszutauschen\, Netzwerke zu knüpfen und Ihre eigenen Projektidee
 n konkret weiter zu entwickeln.\nInternetadresse (eigene Infos im Internet
 ): https://www.lja.de/veranstaltungen/2443088/2024/03/06/ökofair-beschaffe
 n-mit-gutem-beispiel-vorangehen-–-online.html\nFörderbereich: Abschluss- u
 nd schulabschlussbezogene Bildung\nReferent/in: Christoph Diefenbach\nStud
 ienleiter für den Fachbereich ländliche Bildung\nAnsprechpartner/in - Leit
 ung: Christoph Diefenbach\nKosten: 80\,– €\nZusatzinformationen: Anmeldung
  unter https://www.lja.de/veranstaltungen/2443088/2024/03/06/ökofair-besch
 affen-mit-gutem-beispiel-vorangehen-–-online.html
DTSTART;VALUE=DATE:20240306
DTEND;VALUE=DATE:20240307
LOCATION:Internet: nur Internet
SUMMARY:Ökofair beschaffen - mit gutem Beispiel vorangehen :: Gelegenheit z
 usammen mit bereits tätigen Engagierten erste Erfahrungen austauschen.
URL:https://termine.ekir.de/veranstaltung_im_detail754631.html
END:VEVENT
END:VCALENDAR
