BEGIN:VCALENDAR
VERSION:2.0
PRODID:-//evangelische-termine.de//NONSGML kigkonsult.se iCalcreator 2.18//
CALSCALE:GREGORIAN
METHOD:PUBLISH
X-WR-CALNAME:iCal Evangelische-Termine 19.04.2026
X-WR-CALDESC:iCalender von Evangelische-Termine (19.04.2026)
X-WR-TIMEZONE:Europe/Berlin
X-MS-OLK-FORCEINSPECTOROPEN:TRUE
BEGIN:VTIMEZONE
TZID:Europe/Berlin
BEGIN:STANDARD
DTSTART:19701025T030000
TZOFFSETFROM:+0200
TZOFFSETTO:+0100
RRULE:FREQ=YEARLY;BYDAY=-1SU;BYMONTH=10
TZNAME:CET
END:STANDARD
BEGIN:DAYLIGHT
DTSTART:19700329T020000
TZOFFSETFROM:+0100
TZOFFSETTO:+0200
RRULE:FREQ=YEARLY;BYDAY=-1SU;BYMONTH=3
TZNAME:CEST
END:DAYLIGHT
END:VTIMEZONE
BEGIN:VEVENT
UID:20240126T000000-754632@evangelische-termine.de
DTSTAMP:20260419T211214Z
DESCRIPTION:\nKirchenkreis: überregional\nArt der Veranstaltung: Fortbildun
 gen / Seminare / Vorträge\nKurzbeschreibung / Untertitel: Grundlagenlehrga
 ng und Erfahrungsaustausch (4 Module + 2 Präsenzveranstaltungen)\nAusführl
 iche Beschreibung: Die ehrenamtliche Arbeit als kirchliche Umweltbeauftrag
 te / kirchlicher Umweltbeauftragter ist eine sehr wichtige und sinnstiften
 de Tätigkeit\, die aber gerade zu Beginn auch eine Herausforderung sein ka
 nn. Um Ihnen den Einstieg in dieses Amt zu erleichtern\, haben wir in Koop
 eration mit dem Nachhaltigkeitsmanagement des Landeskirchenamtes und den K
 limaschutzmanagern der Evangelischen Kirche im Rheinland einen entsprechen
 den Grundlagenlehrgang entwickelt. In diesem Lehrgang erhalten Sie allgeme
 ine Grundlagen zu den Themen Klimaschutz und Nachhaltigkeit aber auch Info
 rmationen zu den Handlungsfeldern in kirchlichen Organisationen\, den Auft
 rag und die Rolle der / des kirchlichen Umweltbeauftragten sowie zu Projek
 tmanagement. Der gemeinsame Erfahrungsaustausch sowie die geplanten Exkurs
 ionen runden das Programm ab und bietet Gelegenheit Kooperationen aufzubau
 en. Der Lehrgang ist nicht nur für Einsteigerinnen und Einsteiger geeignet
  und steht auch weiteren Interessierten offen.\nInternetadresse (eigene In
 fos im Internet): http://www.lja.de\nFörderbereich: Arbeitswelt- und beruf
 sbezogene Weiterbildung\nReferent/in: Christoph Diefenbach\nStudienleiter 
 für den Fachbereich ländliche Bildung\nAnsprechpartner/in - Leitung: Chris
 toph Diefenbach\nKosten: 375\,– € für die gesamte Ausbildung\nZusatzinform
 ationen: Anmeldung unter https://www.lja.de/veranstaltungen/2443064/2024/0
 1/26/umweltschutz-in-kirchen-%E2%80%93-da-geht-doch-was!-modul-i.html
DTSTART;VALUE=DATE:20240126
DTEND;VALUE=DATE:20241201
LOCATION:Internet: nur Internet
SUMMARY:Umweltschutz in Kirchen - da geht doch was! :: Grundlagenlehrgang u
 nd Erfahrungsaustausch (4 Module + 2 Präsenzveranstaltungen)
URL:https://termine.ekir.de/veranstaltung_im_detail754632.html
END:VEVENT
END:VCALENDAR
