BEGIN:VCALENDAR
VERSION:2.0
PRODID:-//evangelische-termine.de//NONSGML kigkonsult.se iCalcreator 2.18//
CALSCALE:GREGORIAN
METHOD:PUBLISH
X-WR-CALNAME:iCal Evangelische-Termine 19.04.2026
X-WR-CALDESC:iCalender von Evangelische-Termine (19.04.2026)
X-WR-TIMEZONE:Europe/Berlin
X-MS-OLK-FORCEINSPECTOROPEN:TRUE
BEGIN:VTIMEZONE
TZID:Europe/Berlin
BEGIN:STANDARD
DTSTART:19701025T030000
TZOFFSETFROM:+0200
TZOFFSETTO:+0100
RRULE:FREQ=YEARLY;BYDAY=-1SU;BYMONTH=10
TZNAME:CET
END:STANDARD
BEGIN:DAYLIGHT
DTSTART:19700329T020000
TZOFFSETFROM:+0100
TZOFFSETTO:+0200
RRULE:FREQ=YEARLY;BYDAY=-1SU;BYMONTH=3
TZNAME:CEST
END:DAYLIGHT
END:VTIMEZONE
BEGIN:VEVENT
UID:20240207T000000-754643@evangelische-termine.de
DTSTAMP:20260419T211040Z
DESCRIPTION:\nKirchenkreis: überregional\nArt der Veranstaltung: Fortbildun
 gen / Seminare / Vorträge\nVeranstaltungsort: Caspar-Olevian-Saal in Trier
 \nWilly-Brandt-Platz\n54290 Trier\nKurzbeschreibung / Untertitel: Die beka
 nnte Religionspädagogin Sarah Vecera liest aus Ihrem Buch „Wie ist Jesus w
 eiß geworden? – Mein Traum von einer Kirche ohne Rassismus“.\nAusführliche
  Beschreibung: Bekannt wurde sie 2022 als Mitglied des Kirchentagspräsidiu
 ms: Sarah Vecera macht Rassismus in der Kirche zum Thema und trifft damit 
 einen Nerv\, denn bei kritischer Betrachtung ist festzustellen\, dass die 
 deutsche Theologie gefärbt ist von kolonialem und europäischen Überlegenhe
 itsdenken. Das hat Folgen\, denn in einer pluralen Gesellschaft wird Kirch
 e höchst unterschiedliche Blickwinkel auf denselben Jesus entwickeln und a
 ushalten müssen. Mit ihrem kritischen Blick öffnet Sarah Vecera uns die Au
 gen für gut versteckte Rassismen und weitet den Blick dafür\, wie Kirche R
 assismus überwinden und für alle einladend sein kann. \n\nDas Buch 'Wie is
 t Jesus weiß geworden?' erschien 2022 im Verlag Patmos. Sarah Vecera ist K
 oordinatorin für Globales Lernen in Ökumenischer Perspektive bei der Verei
 nten Evangelischen Mission in Wupertal.\nFörderbereich: Abschluss- und sch
 ulabschlussbezogene Bildung\nReferent/in: Sara Vecera\, Religionspädagogin
 \nAnsprechpartner/in - Leitung: Sara Vecera\, Religionspädagogin\nKosten: 
 Eintritt frei\, um eine Spende wird gebeten\nZusatzinformationen: Eine Anm
 eldung ist nicht erforderlich. Auskunft: trier@ekir.de
DTSTART;VALUE=DATE:20240207
DTEND;VALUE=DATE:20240208
LOCATION:Trier: Caspar-Olevian-Saal in Trier
SUMMARY:„Wie ist Jesus weiß geworden?“ - Lesung und Diskussion :: Die bekan
 nte Religionspädagogin Sarah Vecera liest aus Ihrem Buch „Wie ist Jesus we
 iß geworden? – Mein Traum von einer Kirche ohne Rassismus“. 
URL:https://termine.ekir.de/veranstaltung_im_detail754643.html
END:VEVENT
END:VCALENDAR
