BEGIN:VCALENDAR
VERSION:2.0
PRODID:-//evangelische-termine.de//NONSGML kigkonsult.se iCalcreator 2.18//
CALSCALE:GREGORIAN
METHOD:PUBLISH
X-WR-CALNAME:iCal Evangelische-Termine 20.04.2026
X-WR-CALDESC:iCalender von Evangelische-Termine (20.04.2026)
X-WR-TIMEZONE:Europe/Berlin
X-MS-OLK-FORCEINSPECTOROPEN:TRUE
BEGIN:VTIMEZONE
TZID:Europe/Berlin
BEGIN:STANDARD
DTSTART:19701025T030000
TZOFFSETFROM:+0200
TZOFFSETTO:+0100
RRULE:FREQ=YEARLY;BYDAY=-1SU;BYMONTH=10
TZNAME:CET
END:STANDARD
BEGIN:DAYLIGHT
DTSTART:19700329T020000
TZOFFSETFROM:+0100
TZOFFSETTO:+0200
RRULE:FREQ=YEARLY;BYDAY=-1SU;BYMONTH=3
TZNAME:CEST
END:DAYLIGHT
END:VTIMEZONE
BEGIN:VEVENT
UID:20240417T000000-754892@evangelische-termine.de
DTSTAMP:20260419T223753Z
DESCRIPTION:\nKirchenkreis: überregional\nArt der Veranstaltung: Freizeiten
  / Reisen\nVeranstaltungsort: Leipzig\n Leipzig\nKurzbeschreibung / Untert
 itel: Fünftägige Busreise zu den Ursprungsorten des Protestantismus in Deu
 tschland\nAusführliche Beschreibung: Eisenach (mit Welterbe Wartburg) - Wi
 ttenberg - Naumburg (mit Welterbe Naumburger Dom) - Weimar und Erfurt (mit
  Welterbe Alte Synagoge/Mikwe) und Unterbringung in einem ****-Hotel in Le
 ipzig. \nAusgehend von Trier führt uns unsere Fahrt zunächst nach Eisenach
  und zur Wartburg (mit Führung). Abends dann die Weiterfahrt nach Leipzig 
 ins Hotel. Am zweiten Tag Fahrt nach Wittenberg mit Stadtführung und Besic
 htigung von Schlosskirche und Stadtkirche. Am dritten Tag Besichtigungsrun
 dgang durch das Welterbe Naumburger Dom. Nachmittags Stadtrundfahrt Leipzi
 g und Gang durch die Innenstadt zum Ort der Leipziger Disputation. Am vier
 ten Tag Stadtrundgang durch Weimar mit Schloss. Am fünften Tag Rückfahrt n
 ach Trier mit Station in Erfurt und Führung durch das Welterbe Alte Synago
 ge.\nFörderbereich: Sonstiges\nReferent/in: Martin Schulte\nAnsprechpartne
 r/in - Leitung: Martin Schulte\, Mitarbeiter im Gemeinsamen Pastoralen Amt
 \, Evangelische Kirchengemeinde Trier\nKosten: Ab 680\,– € DZ\, EZZ 140\,–
  €\nZusatzinformationen: Auskunft gibt die Evangelische Kirchengemeinde Tr
 ier (E-Mail: trier@ekir.de)\, wo es auch das Anmeldeformular mit detaillie
 rten Informationen gibt. Anmeldeschluss: 22. Januar 2024
DTSTART;VALUE=DATE:20240417
DTEND;VALUE=DATE:20240422
LOCATION:Leipzig: Leipzig
SUMMARY:Evangelisch in Deutschland - eine Reise zu den Anfängen :: Fünftägi
 ge Busreise zu den Ursprungsorten des Protestantismus in Deutschland
URL:https://termine.ekir.de/veranstaltung_im_detail754892.html
END:VEVENT
END:VCALENDAR
