BEGIN:VCALENDAR
VERSION:2.0
PRODID:-//evangelische-termine.de//NONSGML kigkonsult.se iCalcreator 2.18//
CALSCALE:GREGORIAN
METHOD:PUBLISH
X-WR-CALNAME:iCal Evangelische-Termine 19.04.2026
X-WR-CALDESC:iCalender von Evangelische-Termine (19.04.2026)
X-WR-TIMEZONE:Europe/Berlin
X-MS-OLK-FORCEINSPECTOROPEN:TRUE
BEGIN:VTIMEZONE
TZID:Europe/Berlin
BEGIN:STANDARD
DTSTART:19701025T030000
TZOFFSETFROM:+0200
TZOFFSETTO:+0100
RRULE:FREQ=YEARLY;BYDAY=-1SU;BYMONTH=10
TZNAME:CET
END:STANDARD
BEGIN:DAYLIGHT
DTSTART:19700329T020000
TZOFFSETFROM:+0100
TZOFFSETTO:+0200
RRULE:FREQ=YEARLY;BYDAY=-1SU;BYMONTH=3
TZNAME:CEST
END:DAYLIGHT
END:VTIMEZONE
BEGIN:VEVENT
UID:20240219T000000-754896@evangelische-termine.de
DTSTAMP:20260419T211256Z
DESCRIPTION:\nKirchenkreis: überregional\nArt der Veranstaltung: Fortbildun
 gen / Seminare / Vorträge\nVeranstaltungsort: Haus der Stille\nMelsbacher 
 Hohl 5\n56579 Rengsdorf\nKurzbeschreibung / Untertitel: Verbundenheit spür
 en\, Resilienz fördern\, ins Handeln kommen\nAusführliche Beschreibung: Di
 e Aufgaben unserer Generation sind gewaltig\, denn die vielfältigen Krisen
  setzen uns unter einen enormen Veränderungsdruck. Woraus können Kraft und
  Orientierung wachsen\, die notwendigen Schritte in eine lebenswerte Zukun
 ft zu gehen?  Welchen Handlungsspielraum haben wir am Arbeitsplatz\, im Zu
 sammenwirken mit Kund*innen und Kolleg*innen\, auf dem Arbeitsweg\, im eig
 enen Zuhause - und was ist sinnvoll zu tun? Die Stille ist der Erfahrungsr
 aum\, in dem wir uns der Verbundenheit mit Gott\, unserer Mitwelt und unse
 ren Bedürfnissen bewusst werden. Aus dieser Verbundenheit erleben wir\, da
 ss wir gehalten sind und dass dieser Halt uns verwandelt. Aus dieser Verbu
 ndenheit orientiert sich unser Verhalten an dem\, was allem Leben dient. S
 tille-Übungen\, vor allem in der Natur\, und der Austausch darüber in der 
 Gruppe geben den Rhythmus der Tage vor. Wir lernen ein Spiritualitätsmodel
 l kennen\, das uns aufzeigt\, wie Verbundenheit uns durch den Alltag begle
 iten kann.\nInternetadresse (eigene Infos im Internet): http://www.haus-de
 r-stille-rengsdorf.de\nFörderbereich: Lebensgestaltende Bildung\, Existenz
 fragen\, einschließlich der Bereiche der soz. u.. interkulturellen Beziehu
 ngen\nReferent/in: Dr. Martin Horstmann\, Studienleiter Melanchthon-Akadem
 ie: Pfrn. Irene Hildenhagen\, Leiterin des Hauses der Stille\, Geistliche 
 Begleiterin\, Exerzitienbegleiterin\nKöln: Rengsdorf\n\nAnsprechpartner/in
  - Leitung: Haus der Stille\nMelsbacher Hohl 5\n56579 Rengsdorf\nTel:  026
 34/920510\nE-Mail: anmeldung.hds@ekir.de\nKosten: 493\,– € (inkl. 183\,– €
  Kursgebühr)\nZusatzinformationen: Anmeldung unter anmeldung.hds@ekir.de
DTSTART;VALUE=DATE:20240219
DTEND;VALUE=DATE:20240224
LOCATION:Rengsdorf: Haus der Stille
SUMMARY:Silence for future :: Verbundenheit spüren\, Resilienz fördern\, in
 s Handeln kommen
URL:https://termine.ekir.de/veranstaltung_im_detail754896.html
END:VEVENT
END:VCALENDAR
