BEGIN:VCALENDAR
VERSION:2.0
PRODID:-//evangelische-termine.de//NONSGML kigkonsult.se iCalcreator 2.18//
CALSCALE:GREGORIAN
METHOD:PUBLISH
X-WR-CALNAME:iCal Evangelische-Termine 20.04.2026
X-WR-CALDESC:iCalender von Evangelische-Termine (20.04.2026)
X-WR-TIMEZONE:Europe/Berlin
X-MS-OLK-FORCEINSPECTOROPEN:TRUE
BEGIN:VTIMEZONE
TZID:Europe/Berlin
BEGIN:STANDARD
DTSTART:19701025T030000
TZOFFSETFROM:+0200
TZOFFSETTO:+0100
RRULE:FREQ=YEARLY;BYDAY=-1SU;BYMONTH=10
TZNAME:CET
END:STANDARD
BEGIN:DAYLIGHT
DTSTART:19700329T020000
TZOFFSETFROM:+0100
TZOFFSETTO:+0200
RRULE:FREQ=YEARLY;BYDAY=-1SU;BYMONTH=3
TZNAME:CEST
END:DAYLIGHT
END:VTIMEZONE
BEGIN:VEVENT
UID:20240513T000000-754898@evangelische-termine.de
DTSTAMP:20260419T223753Z
DESCRIPTION:\nKirchenkreis: überregional\nArt der Veranstaltung: Fortbildun
 gen / Seminare / Vorträge\nVeranstaltungsort: Haus der Stille\nMelsbacher 
 Hohl 5\n56579 Rengsdorf\nKurzbeschreibung / Untertitel: Einführung: Eine W
 eiterbildung zu Spiritueller Resilienz\nAusführliche Beschreibung: Wie läs
 st sich innere Stärke entwickeln\, die im beruflichen wie im privaten Allt
 ag und durch Krisenzeiten trägt? Wie erhalten wir innere Freiheit und Hand
 lungsfähigkeit trotz äußerer Begrenzungen? Wie verbinden wir uns mit der F
 ülle\, um in Veränderungen flexibel zu bleiben? In dieser Weiterbildung le
 rnen wir ein Resilienz-Modell kennen\, das neben der Stärkung der eigenen 
 Kraftquellen den bewussten Bezug zu Spiritualität und zur Schöpfung als Re
 ssourcen für seelische Kraft herstellt. Wir arbeiten prozess- und ressourc
 enorientiert im perspektivischen Raum von Glaube\, Hoffnung und Liebe (vgl
 . 1. Kor. 13\,13).  Der Kurs vermittelt erfahrungsbezogene Informationen z
 u spiritueller Resilienz. Die Teilnehmenden erwerben Kompetenzen für mehr 
 Stressresistenz\, Lebensqualität und Zufriedenheit im beruflichen und priv
 aten Alltag. Der Kurs richtet sich besonders an alle Menschen\, die mit Me
 nschen arbeiten: Soziale Berater*innen\, Pfarrer*innen\, Coaches\, Therape
 ut*innen\, Pädagog*innen\, Diakon*innen\, etc.\nDer Kurs ist als Bildungsu
 rlaub in Rheinland-Pfalz anerkannt und in weiteren Bundesländern sind bean
 tragt.\nInternetadresse (eigene Infos im Internet): http://www.haus-der-st
 ille-rengsdorf.de\nFörderbereich: Lebensgestaltende Bildung\, Existenzfrag
 en\, einschließlich der Bereiche der soz. u.. interkulturellen Beziehungen
 \nReferent/in: Pfrn. Irene Hildenhagen\, Leiterin des Hauses der Stille\, 
 Geistliche Begleiterin\, Exerzitienbegleiterin / Rengsdorf\n\nDr. Antje Rü
 ttgardt\, Theologin\, Spiritualin\, Christozentrische Systemikerin\, Biody
 namikerin\, Mitglied Christliche Arbeitsgemeinschaft Tanz e.V. / Berlin\nA
 nsprechpartner/in - Leitung: Haus der Stille\nMelsbacher Hohl 5\n56579 Ren
 gsdorf\nTel:  02634/920510\nE-Mail: anmeldung.hds@ekir.de\nKosten: 513\,– 
 € (inkl. 203\,– € Kursgebühr)\nZusatzinformationen: Anmeldung unter anmeld
 ung.hds@ekir.de
DTSTART;VALUE=DATE:20240513
DTEND;VALUE=DATE:20240518
LOCATION:Rengsdorf: Haus der Stille
SUMMARY:- ABGESAGT - Die Kunst\, aus der Fülle zu leben - Einführungsmodul 
 :: Einführung: Eine Weiterbildung zu Spiritueller Resilienz
URL:https://termine.ekir.de/veranstaltung_im_detail754898.html
END:VEVENT
END:VCALENDAR
