BEGIN:VCALENDAR
VERSION:2.0
PRODID:-//evangelische-termine.de//NONSGML kigkonsult.se iCalcreator 2.18//
CALSCALE:GREGORIAN
METHOD:PUBLISH
X-WR-CALNAME:iCal Evangelische-Termine 19.04.2026
X-WR-CALDESC:iCalender von Evangelische-Termine (19.04.2026)
X-WR-TIMEZONE:Europe/Berlin
X-MS-OLK-FORCEINSPECTOROPEN:TRUE
BEGIN:VTIMEZONE
TZID:Europe/Berlin
BEGIN:STANDARD
DTSTART:19701025T030000
TZOFFSETFROM:+0200
TZOFFSETTO:+0100
RRULE:FREQ=YEARLY;BYDAY=-1SU;BYMONTH=10
TZNAME:CET
END:STANDARD
BEGIN:DAYLIGHT
DTSTART:19700329T020000
TZOFFSETFROM:+0100
TZOFFSETTO:+0200
RRULE:FREQ=YEARLY;BYDAY=-1SU;BYMONTH=3
TZNAME:CEST
END:DAYLIGHT
END:VTIMEZONE
BEGIN:VEVENT
UID:20240223T000000-754899@evangelische-termine.de
DTSTAMP:20260419T211258Z
DESCRIPTION:\nKirchenkreis: überregional\nArt der Veranstaltung: Fortbildun
 gen / Seminare / Vorträge\nVeranstaltungsort: Haus der Stille\nMelsbacher 
 Hohl 5\n56579 Rengsdorf\nKurzbeschreibung / Untertitel: Mit Taizé-Gesängen
  und dem Tanz der Elemente\nAusführliche Beschreibung: Unterschiedliche Zu
 gänge zur Spiritualität eröffnen sich Ihnen an diesem Wochenende: Mit Musi
 k\, Bewegung\, Stille\, Taizé-Gesängen und dem Tanz der Elemente probieren
  wir in diesem Kurs kleine Alltagsrituale aus. Sie können zu Kraftquellen 
 werden\, die Ihre religiöse oder spirituelle Praxis bereichern. Hinzu komm
 en Tagzeitengebete\, verschiedene biblische Impulse und Achtsamkeitsübunge
 n. Bringen Sie Gesangs- und Bewegungsfreude mit und gutes Schuhwerk für un
 sere Übungen in der Natur.\nInternetadresse (eigene Infos im Internet): ht
 tp://www.haus-der-stille-rengsdorf.de\nFörderbereich: Lebensgestaltende Bi
 ldung\, Existenzfragen\, einschließlich der Bereiche der soz. u.. interkul
 turellen Beziehungen\nReferent/in: Roswitha Velte-Hasselhorn\, Pfarrerin i
 .R.: Matthias Metzmacher\, Pfarrer i.R.\, Diplom-Psychologe\nWeißenborn: D
 ausenau\n\nAnsprechpartner/in - Leitung: Haus der Stille\nMelsbacher Hohl 
 5\n56579 Rengsdorf\nTel:  02634/920510\nE-Mail: anmeldung.hds@ekir.de\nKos
 ten: 269\,– € (inkl. 109\,– € Kursgebühr)\nZusatzinformationen: Anmeldung 
 unter anmeldung.hds@ekir.de
DTSTART;VALUE=DATE:20240223
DTEND;VALUE=DATE:20240226
LOCATION:Rengsdorf: Haus der Stille
SUMMARY:Kleine Alltagsrituale als Kraftquelle entdecken - Kopie :: Mit Taiz
 é-Gesängen und dem Tanz der Elemente
URL:https://termine.ekir.de/veranstaltung_im_detail754899.html
END:VEVENT
END:VCALENDAR
