BEGIN:VCALENDAR
VERSION:2.0
PRODID:-//evangelische-termine.de//NONSGML kigkonsult.se iCalcreator 2.18//
CALSCALE:GREGORIAN
METHOD:PUBLISH
X-WR-CALNAME:iCal Evangelische-Termine 19.04.2026
X-WR-CALDESC:iCalender von Evangelische-Termine (19.04.2026)
X-WR-TIMEZONE:Europe/Berlin
X-MS-OLK-FORCEINSPECTOROPEN:TRUE
BEGIN:VTIMEZONE
TZID:Europe/Berlin
BEGIN:STANDARD
DTSTART:19701025T030000
TZOFFSETFROM:+0200
TZOFFSETTO:+0100
RRULE:FREQ=YEARLY;BYDAY=-1SU;BYMONTH=10
TZNAME:CET
END:STANDARD
BEGIN:DAYLIGHT
DTSTART:19700329T020000
TZOFFSETFROM:+0100
TZOFFSETTO:+0200
RRULE:FREQ=YEARLY;BYDAY=-1SU;BYMONTH=3
TZNAME:CEST
END:DAYLIGHT
END:VTIMEZONE
BEGIN:VEVENT
UID:20240101T000000-755205@evangelische-termine.de
DTSTAMP:20260419T193421Z
DESCRIPTION:\nKirchenkreis: überregional\nArt der Veranstaltung: Fortbildun
 gen / Seminare / Vorträge\nVeranstaltungsort: INFORMA Zentrum für Hörgesch
 ädigte gemeinnützige GmbH\nIm Mühlengrund 3\n56566 Neuwied\nKurzbeschreibu
 ng / Untertitel: Gebärdenkurse für alle alle ab 12 Jahre\nAusführliche Bes
 chreibung: Deutsche Gebärdensprache für Anfänger und Fortgeschrittene\n\nI
 nforma gGmbH  Kommunikation-Bildung - Arbeit \n(ehemaliges 'Zentrum für Hö
 rgeschädigte')\nbietet ganzjährig Gebärdensprachkurse in verschiedensten L
 eistungsstufen an.\nInternetadresse (eigene Infos im Internet): http://www
 .informa.org\nFörderbereich: Sprachen\nReferent/in: Nicole Prangenberg und
  Maria Fedorov\nAnsprechpartner/in - Leitung: Nicole Prangenberg und Maria
  Fedorov\nKosten: 130\,– € pro Kurs\nZusatzinformationen: Veranstaltungsor
 te können im Raum Neuwied\, Altenkirchen oder individuelle Kurse in Ihrer 
 Gemeinde sein. Fragen Sie uns!\n\nInfos und Anmeldung bei Heike Hawacker\n
 hhawacker@informa.org oder 02631 917110
DTSTART;VALUE=DATE:20240101
DTEND;VALUE=DATE:20250101
LOCATION:Neuwied: INFORMA Zentrum für Hörgeschädigte gemeinnützige GmbH
SUMMARY:Gebärden-Sprachkurse für Anfänger und Fortgeschrittene :: aktuelle 
 Termine unter www.informa.org
URL:https://termine.ekir.de/veranstaltung_im_detail755205.html
END:VEVENT
END:VCALENDAR
