BEGIN:VCALENDAR
VERSION:2.0
PRODID:-//evangelische-termine.de//NONSGML kigkonsult.se iCalcreator 2.18//
CALSCALE:GREGORIAN
METHOD:PUBLISH
X-WR-CALNAME:iCal Evangelische-Termine 20.04.2026
X-WR-CALDESC:iCalender von Evangelische-Termine (20.04.2026)
X-WR-TIMEZONE:Europe/Berlin
X-MS-OLK-FORCEINSPECTOROPEN:TRUE
BEGIN:VTIMEZONE
TZID:Europe/Berlin
BEGIN:STANDARD
DTSTART:19701025T030000
TZOFFSETFROM:+0200
TZOFFSETTO:+0100
RRULE:FREQ=YEARLY;BYDAY=-1SU;BYMONTH=10
TZNAME:CET
END:STANDARD
BEGIN:DAYLIGHT
DTSTART:19700329T020000
TZOFFSETFROM:+0100
TZOFFSETTO:+0200
RRULE:FREQ=YEARLY;BYDAY=-1SU;BYMONTH=3
TZNAME:CEST
END:DAYLIGHT
END:VTIMEZONE
BEGIN:VEVENT
UID:20240531T000000-755206@evangelische-termine.de
DTSTAMP:20260419T223740Z
DESCRIPTION:\nKirchenkreis: überregional\nArt der Veranstaltung: Sonstiges
 \nVeranstaltungsort: Kirchliche Hochschule Wuppertal\nMissionsstr. 9 a/b\n
 42285 Wuppertal\nKurzbeschreibung / Untertitel: „Was Erinnern macht – Mach
 t der Erinnerung“: 90 Jahre Barmer Theologische Erklärung\nAusführliche Be
 schreibung: Vor 90 Jahren wurde die Barmer „Theologische Erklärung zur geg
 enwärtigen Lage der Deutschen Evangelischen Kirche“ von der Bekenntnissyno
 de in der Gemarker Kirche im Wuppertaler Stadtteil Barmen am 31. Mai 1934 
 beschlossen. Die sechs Thesen umfassende Erklärung stellt eines der bedeut
 endsten Dokumente der Geschichte des Protestantismus in Deutschland des 20
 . Jahrhunderts dar. Gemeinsam formulierten Lutheraner\, Reformierte und Un
 ierte theologische Glaubensgrundsätze\, mit denen sie sich gegen die vom N
 ationalsozialismus beeinflusste Theologie und Kirchenpolitik der „Deutsche
 n Christen“ wendeten.\n\nKritische Auseinandersetzung mit der historischen
  Bedeutung\nSeither ist die Barmer Theologische Erklärung vielfach gefeier
 t und rezipiert\, dabei in unterschiedlichen Kontexten vereinnahmt und ins
 trumentalisiert worden. Anlässlich des 90-jährigen Jubiläums ist es Zeit\,
  sich (selbst-) kritisch mit der historischen Bedeutung sowie der Erinneru
 ngsgeschichte der Erklärung von Barmen auseinanderzusetzen. Dazu will die 
 Fachtagung vom 31. Mai bis 1. Juni 2024 beitragen: Wie wurde zu unterschie
 dlichen Zeitpunkten an die Erklärung erinnert? In welcher Funktion stand d
 ie jeweilige Erinnerung?  Von welchen Perspektiven ist unsere Erinnerung h
 eute geprägt? Diese und andere Fragen werden von Expertinnen und Experten 
 in Fachvorträgen beleuchtet werden. Sie können sich auf interessante Vortr
 äge von Prof. Dr. Siegfried Hermle\, Prof. Dr. Katharina von Kellenbach\, 
 Prof. Dr. Jürgen Kampmann und Prof. Axel Noack freuen.\n\nFestgottesdienst
  in der Gemarker Kirche\nDie Tagung selbst findet „auf dem heiligen Berg“ 
 der Kirchlichen Hochschule in Wuppertal statt. Dort gibt es auch Unterbrin
 gungs- und Verpflegungsmöglichkeiten. Am Abend des 31. Mai 2024 gibt es zu
 sätzlich einen Festgottesdienst in der Gemarker Kirche in Barmen.\n\nWenn 
 Sie Interesse an weiteren Informationen oder auch Fragen zu dieser Tagung 
 haben\, schreiben Sie uns bitte unter folgender E-Mail-Adresse an: barmen2
 4@kiho-wuppertal.de\nInternetadresse (eigene Infos im Internet): https://k
 iho-wuppertal.de/barmen24/\nFörderbereich: Sonstiges\nZusatzinformationen:
  https://kiho-wuppertal.de/barmen24/
DTSTART;VALUE=DATE:20240531
DTEND;VALUE=DATE:20240602
LOCATION:Wuppertal: Kirchliche Hochschule Wuppertal
SUMMARY:Save the Date: Fachtagung zur Barmer Theologischen Erklärung vom 31
 . Mai bis 1. Juni 2024
URL:https://termine.ekir.de/veranstaltung_im_detail755206.html
END:VEVENT
END:VCALENDAR
