BEGIN:VCALENDAR
VERSION:2.0
PRODID:-//evangelische-termine.de//NONSGML kigkonsult.se iCalcreator 2.18//
CALSCALE:GREGORIAN
METHOD:PUBLISH
X-WR-CALNAME:iCal Evangelische-Termine 19.04.2026
X-WR-CALDESC:iCalender von Evangelische-Termine (19.04.2026)
X-WR-TIMEZONE:Europe/Berlin
X-MS-OLK-FORCEINSPECTOROPEN:TRUE
BEGIN:VTIMEZONE
TZID:Europe/Berlin
BEGIN:STANDARD
DTSTART:19701025T030000
TZOFFSETFROM:+0200
TZOFFSETTO:+0100
RRULE:FREQ=YEARLY;BYDAY=-1SU;BYMONTH=10
TZNAME:CET
END:STANDARD
BEGIN:DAYLIGHT
DTSTART:19700329T020000
TZOFFSETFROM:+0100
TZOFFSETTO:+0200
RRULE:FREQ=YEARLY;BYDAY=-1SU;BYMONTH=3
TZNAME:CEST
END:DAYLIGHT
END:VTIMEZONE
BEGIN:VEVENT
UID:20240202T150000-755207@evangelische-termine.de
DTSTAMP:20260419T211209Z
DESCRIPTION:\nKirchenkreis: überregional\nArt der Veranstaltung: Gruppen & 
 Kreise\nVeranstaltungsort: Ev. Gemeindezentrum Winningen\nKirchstraße 5\n5
 6333 Winningen\nKurzbeschreibung / Untertitel: Kreatives Schreiben\nAusfüh
 rliche Beschreibung: Wir kommen den Rollen in unserem Leben auf die Spur u
 nd schauen\, was passiert\, wenn wir die Masken fallen lassen.\n\nKeine Vo
 rkenntnisse erforderlich. Einstieg jederzeit möglich.\nFörderbereich: Sons
 tiges\nReferent/in: Susanne Barth\nAnsprechpartner/in - Leitung: Susanne B
 arth\nKosten: 49\,– € und zzgl. einen kleinen kulinarischen Beitrag zum Ka
 ffee-Büffet\nZusatzinformationen: Anmeldung Pfarrbüro winningen@ekir.de\, 
 Tel. 02606-344 oder info@susanne-barth.com
DTSTART;TZID=Europe/Berlin:20240202T150000
DTEND;TZID=Europe/Berlin:20240202T200000
LOCATION:Winningen: Ev. Gemeindezentrum Winningen
SUMMARY:Schreiben über Gott und die Welt – ABGESCHMINKT :: Kreatives Schrei
 ben
URL:https://termine.ekir.de/veranstaltung_im_detail755207.html
END:VEVENT
END:VCALENDAR
