BEGIN:VCALENDAR
VERSION:2.0
PRODID:-//evangelische-termine.de//NONSGML kigkonsult.se iCalcreator 2.18//
CALSCALE:GREGORIAN
METHOD:PUBLISH
X-WR-CALNAME:iCal Evangelische-Termine 20.04.2026
X-WR-CALDESC:iCalender von Evangelische-Termine (20.04.2026)
X-WR-TIMEZONE:Europe/Berlin
X-MS-OLK-FORCEINSPECTOROPEN:TRUE
BEGIN:VTIMEZONE
TZID:Europe/Berlin
BEGIN:STANDARD
DTSTART:19701025T030000
TZOFFSETFROM:+0200
TZOFFSETTO:+0100
RRULE:FREQ=YEARLY;BYDAY=-1SU;BYMONTH=10
TZNAME:CET
END:STANDARD
BEGIN:DAYLIGHT
DTSTART:19700329T020000
TZOFFSETFROM:+0100
TZOFFSETTO:+0200
RRULE:FREQ=YEARLY;BYDAY=-1SU;BYMONTH=3
TZNAME:CEST
END:DAYLIGHT
END:VTIMEZONE
BEGIN:VEVENT
UID:20240608T140000-755209@evangelische-termine.de
DTSTAMP:20260419T223712Z
DESCRIPTION:\nKirchenkreis: überregional\nArt der Veranstaltung: Fortbildun
 gen / Seminare / Vorträge\nVeranstaltungsort: Wildnis-Werkstatt Weltenbaum
 \nEcke Dhaunerstr./Brunnenstraße\n55606 Oberhausen\nKurzbeschreibung / Unt
 ertitel: Jede Jahreszeit hat ihre ganz eigenen Besonderheiten\nAusführlich
 e Beschreibung: Jede Jahreszeit hat ihre ganz eigenen Besonderheiten und i
 hre eigene Schönheit. Der Wald bietet den perfekten Raum\, um den Jahreskr
 eis in all seinen Facetten zu erleben. Eine Reise in die Tiefen der Wälder
  ist zugleich eine Reise in unser EIGENES INNERES!\nFörderbereich: Sonstig
 es\nReferent/in: Alexandra Fey\, Heike Zerfaß\, Erzieherinnen\, Walderzieh
 erinnen\, Wildnispädagoginnen\nAnsprechpartner/in - Leitung: Heike Zerfaß
 \nKosten: 20\,– € ohne Verpflegung\nZusatzinformationen: Anmeldung bis 31.
 05.2024\n: \nAnsprechpartner: Carola Schick eeb-sued@eeb-sued.de
DTSTART;TZID=Europe/Berlin:20240608T140000
DTEND;TZID=Europe/Berlin:20240608T180000
LOCATION:Oberhausen: Wildnis-Werkstatt Weltenbaum
SUMMARY:Wilde Waldwellness :: Jede Jahreszeit hat ihre ganz eigenen Besonde
 rheiten
URL:https://termine.ekir.de/veranstaltung_im_detail755209.html
END:VEVENT
END:VCALENDAR
