BEGIN:VCALENDAR
VERSION:2.0
PRODID:-//evangelische-termine.de//NONSGML kigkonsult.se iCalcreator 2.18//
CALSCALE:GREGORIAN
METHOD:PUBLISH
X-WR-CALNAME:iCal Evangelische-Termine 19.04.2026
X-WR-CALDESC:iCalender von Evangelische-Termine (19.04.2026)
X-WR-TIMEZONE:Europe/Berlin
X-MS-OLK-FORCEINSPECTOROPEN:TRUE
BEGIN:VTIMEZONE
TZID:Europe/Berlin
BEGIN:STANDARD
DTSTART:19701025T030000
TZOFFSETFROM:+0200
TZOFFSETTO:+0100
RRULE:FREQ=YEARLY;BYDAY=-1SU;BYMONTH=10
TZNAME:CET
END:STANDARD
BEGIN:DAYLIGHT
DTSTART:19700329T020000
TZOFFSETFROM:+0100
TZOFFSETTO:+0200
RRULE:FREQ=YEARLY;BYDAY=-1SU;BYMONTH=3
TZNAME:CEST
END:DAYLIGHT
END:VTIMEZONE
BEGIN:VEVENT
UID:20240222T000000-755210@evangelische-termine.de
DTSTAMP:20260419T211256Z
DESCRIPTION:\nKirchenkreis: überregional\nArt der Veranstaltung: Fortbildun
 gen / Seminare / Vorträge\nVeranstaltungsort: Zentrum für lebenslanges Ler
 nen – Rheinische Gesellschaft für Diakonie gGmbH\nMaiweg 150\n56841 Traben
 -Trarbach/Wolf\nKurzbeschreibung / Untertitel: 7-tägige Weiterbildung zur 
 Praxisanleitung für pädagogische Fachkräfte aus Bereichen der Hilfen zur E
 rziehung\nAusführliche Beschreibung: Für pädagogische Fachkräfte\, die in 
 Rhld.-Pfalz angehende anerkannte Erzieher*innen im Rahmen der Kurzpraktika
 \, Berufspraktikant*innen und angehende Heilerziehungspfleger*innen anleit
 en\, ist seit dem 01.08.2009 die Zusatzqualifizierung 'Praxisanleitung' ve
 rbindlich festgeschrieben. Die Aufgabe des Trägers der Einrichtung ist es\
 , dafür zu sorgen\, dass in jeder Einrichtung eine nach der trägerübergrei
 fenden Rahmenvereinbarung zur Praxisanleitung in Rhld.-Pfalz qualifizierte
  Kraft für diese Anleitung zur Verfügung steht.\nIn dieser Weiterbildung w
 erden Sie für die neue Aufgabe qualifiziert. Die Inhalte orientieren sich 
 nach der trägerübergreifenden Rahmenvereinbarung zur Praxisanleitung Rhein
 land-Pfalz vom 15.08.2022.\n\nAlle Termine im Überblick: 22.02.24 (Präsenz
 )\, 21.03.24 (online)\, 11.04.24 (online)\, 07.05.24 (Präsenz)\, 06.06.24 
 (Präsenz)\, 18.06.24 (Selbststudium online)\, 27.06.24 (Präsenz)\nUhrzeite
 n: 9.00 - 16.30 Uhr (Präsenz)\, 9.00 - 16.00 Uhr (online)\nInternetadresse
  (eigene Infos im Internet): https://www.rg-diakonie.de/aus-und-weiterbild
 ung/unsere-standorte/zentrum-fuer-lebenslanges-lernen\nFörderbereich: Arbe
 itswelt- und berufsbezogene Weiterbildung\nReferent/in: Elisabeth Portz-Sc
 hmitt\nMonika Linden\nAnsprechpartner/in - Leitung: Zentrum für lebenslang
 es Lernen\,\nMaiweg 150\, 56841 Traben-Trarbach/Wolf\nKosten: 699\,– € ink
 l. Verpflegungspauschale\nZusatzinformationen: Tel. 06541: Bettina Pilz\, 
 Personalentwicklung\n7009380: Fort- und Weiterbildung\,\ninfo@zentrum-lebe
 nslanges-lernen.de\n
DTSTART;VALUE=DATE:20240222
DTEND;VALUE=DATE:20240628
LOCATION:Traben-Trarbach/Wolf: Zentrum für lebenslanges Lernen – Rheinische
  Gesellschaft für Diakonie gGmbH
SUMMARY:Praxisanleitung 2024 :: 7-tägige Weiterbildung zur Praxisanleitung 
 für pädagogische Fachkräfte aus Bereichen der Hilfen zur Erziehung
URL:https://termine.ekir.de/veranstaltung_im_detail755210.html
END:VEVENT
END:VCALENDAR
