BEGIN:VCALENDAR
VERSION:2.0
PRODID:-//evangelische-termine.de//NONSGML kigkonsult.se iCalcreator 2.18//
CALSCALE:GREGORIAN
METHOD:PUBLISH
X-WR-CALNAME:iCal Evangelische-Termine 19.04.2026
X-WR-CALDESC:iCalender von Evangelische-Termine (19.04.2026)
X-WR-TIMEZONE:Europe/Berlin
X-MS-OLK-FORCEINSPECTOROPEN:TRUE
BEGIN:VTIMEZONE
TZID:Europe/Berlin
BEGIN:STANDARD
DTSTART:19701025T030000
TZOFFSETFROM:+0200
TZOFFSETTO:+0100
RRULE:FREQ=YEARLY;BYDAY=-1SU;BYMONTH=10
TZNAME:CET
END:STANDARD
BEGIN:DAYLIGHT
DTSTART:19700329T020000
TZOFFSETFROM:+0100
TZOFFSETTO:+0200
RRULE:FREQ=YEARLY;BYDAY=-1SU;BYMONTH=3
TZNAME:CEST
END:DAYLIGHT
END:VTIMEZONE
BEGIN:VEVENT
UID:20240131T190000-770356@evangelische-termine.de
DTSTAMP:20260419T211051Z
DESCRIPTION:\nKirchenkreis: überregional\nArt der Veranstaltung: Fortbildun
 gen / Seminare / Vorträge\nVeranstaltungsort: online\n- -\nKurzbeschreibun
 g / Untertitel: - Ein Insel-Porträt der besonderen Art -\nAusführliche Bes
 chreibung: Literatur spielte für Irland schon immer eine herausragende Rol
 le – und sie tut dies nach wie vor. Dies liegt vor allem an der bewegten G
 eschichte der „Grünen Insel“: Fiel schon den Barden in der urkeltischen Ge
 sellschaft eine besondere gesellschaftliche Aufgabe zu\, so befruchtete ge
 rade der durch jahrhundertelange Fremdherrschaft bedingte kulturelle und s
 prachliche Reibungsprozess die späteren Poeten.\n\nMit William Butler Yeat
 s\, George Bernhard Shaw\, Samuel Beckett und Seamus Heaney haben gleich v
 ier gebürtige Iren den Nobelpreis für Literatur erhalten\; James Joyce gil
 t als eine der Schlüsselfiguren der literarischen Moderne\; und die zeitge
 nössische Literatur genießt weit über die Grenzen Irlands hinaus hohe Acht
 ung.\n\nImmer schon haben Irlands Literaten die gesellschaftlichen Verhält
 nisse und Veränderungen der Insel kritisch\, phantasievoll\, oft komisch-s
 arkastisch begleitet. Und oft war und ist Literatur und Poesie in konkrete
 n Landschaften und Orten zuhause\, kann in gewissem Sinne also 'aufgesucht
 ' werden.\n\nUnd so wollen wir Sie an diesem Abend auf eine literarische B
 ilder-Reise über die Grüne Insel mitnehmen und Ihnen einen Eindruck vermit
 teln von dem sagenhaften landschaftlichen\, historischen und eben auch lit
 erarischen Reichtum dieses Landes an der europäischen Peripherie.\n\nWenn 
 Sie sich außerdem einen eigenen Eindruck direkt vor Ort verschaffen möchte
 n – das eeb bietet auch in diesem Jahr wieder eine Studienreise nach Irlan
 d an: unter https://eeb-sued.de/studienfahrt-irland-2024/ erhalten Sie wei
 tere Informationen.\nInternetadresse (eigene Infos im Internet): https://e
 eb-sued.de/studienfahrt-irland-2024/\nFörderbereich: Sonstiges\nReferent/i
 n: Eckhard Ladner\n(Studien- und Programmleiter des „Europäischen Bildungs
 - und Begegnungszentrums Irland”)\nAnsprechpartner/in - Leitung: Kirsten A
 rnswald\nKosten: keine (über eine Spende würden wir uns freuen)\nZusatzinf
 ormationen: Für die Unterstützung unserer kostenlosen Online-Angebote durc
 h einen freiwilligen Beitrag sind wir dankbar!\nEv. Erwachsenenbildungswer
 k Rheinland-Süd e.V.\nIBAN DE10 3506 0190 1012 0620 32\nBIC GENODED1DKD\n:
  
DTSTART;TZID=Europe/Berlin:20240131T190000
DTEND;TZID=Europe/Berlin:20240131T210000
LOCATION:-: online
SUMMARY:Wanderungen durch irisch-literarische Landschaften :: - Ein Insel-P
 orträt der besonderen Art -
URL:https://termine.ekir.de/veranstaltung_im_detail770356.html
END:VEVENT
END:VCALENDAR
