BEGIN:VCALENDAR
VERSION:2.0
PRODID:-//evangelische-termine.de//NONSGML kigkonsult.se iCalcreator 2.18//
CALSCALE:GREGORIAN
METHOD:PUBLISH
X-WR-CALNAME:iCal Evangelische-Termine 19.04.2026
X-WR-CALDESC:iCalender von Evangelische-Termine (19.04.2026)
X-WR-TIMEZONE:Europe/Berlin
X-MS-OLK-FORCEINSPECTOROPEN:TRUE
BEGIN:VTIMEZONE
TZID:Europe/Berlin
BEGIN:STANDARD
DTSTART:19701025T030000
TZOFFSETFROM:+0200
TZOFFSETTO:+0100
RRULE:FREQ=YEARLY;BYDAY=-1SU;BYMONTH=10
TZNAME:CET
END:STANDARD
BEGIN:DAYLIGHT
DTSTART:19700329T020000
TZOFFSETFROM:+0100
TZOFFSETTO:+0200
RRULE:FREQ=YEARLY;BYDAY=-1SU;BYMONTH=3
TZNAME:CEST
END:DAYLIGHT
END:VTIMEZONE
BEGIN:VEVENT
UID:20240205T100000-773593@evangelische-termine.de
DTSTAMP:20260419T211214Z
DESCRIPTION:\nKirchenkreis: überregional\nArt der Veranstaltung: Fortbildun
 gen / Seminare / Vorträge\nKurzbeschreibung / Untertitel: MEWIS-NT Basisku
 rs zu den Modulen Kirchenbuch und K-Meld\nAusführliche Beschreibung: In di
 esem Online-Seminar erhalten Sie einen Überblick speziell zu den Modulen K
 irchenbuch und K-Meld der Meldewesendatenbank Mewis-NT.\nWeitere Fortbildu
 ngen werden demnächst veröffentlicht!\nInternetadresse (eigene Infos im In
 ternet): http://www.eeb-sued.de\nFörderbereich: Technik\, Technologien\, M
 edien\nReferent/in: Kirsten Arnswald\nAnsprechpartner/in - Leitung: Kirste
 n Arnswald\nKosten: 30\,– €\nZusatzinformationen: Anmeldung bis 02.02.2024
 \nAnsprechpartner: Kirsten Arnswald karnswald@eeb-sued.de\n06761/7019
DTSTART;TZID=Europe/Berlin:20240205T100000
DTEND;TZID=Europe/Berlin:20240205T120000
LOCATION:Internet: nur Internet
SUMMARY:Basiskurs: Die Module Kirchenbuch und K-Meld in Mewis-NT :: MEWIS-N
 T Basiskurs zu den Modulen Kirchenbuch und K-Meld
URL:https://termine.ekir.de/veranstaltung_im_detail773593.html
END:VEVENT
END:VCALENDAR
