BEGIN:VCALENDAR
VERSION:2.0
PRODID:-//evangelische-termine.de//NONSGML kigkonsult.se iCalcreator 2.18//
CALSCALE:GREGORIAN
METHOD:PUBLISH
X-WR-CALNAME:iCal Evangelische-Termine 19.04.2026
X-WR-CALDESC:iCalender von Evangelische-Termine (19.04.2026)
X-WR-TIMEZONE:Europe/Berlin
X-MS-OLK-FORCEINSPECTOROPEN:TRUE
BEGIN:VTIMEZONE
TZID:Europe/Berlin
BEGIN:STANDARD
DTSTART:19701025T030000
TZOFFSETFROM:+0200
TZOFFSETTO:+0100
RRULE:FREQ=YEARLY;BYDAY=-1SU;BYMONTH=10
TZNAME:CET
END:STANDARD
BEGIN:DAYLIGHT
DTSTART:19700329T020000
TZOFFSETFROM:+0100
TZOFFSETTO:+0200
RRULE:FREQ=YEARLY;BYDAY=-1SU;BYMONTH=3
TZNAME:CEST
END:DAYLIGHT
END:VTIMEZONE
BEGIN:VEVENT
UID:20240319T183000-778688@evangelische-termine.de
DTSTAMP:20260419T204711Z
DESCRIPTION:\nKirchenkreis: An Nahe und Glan\nArt der Veranstaltung: Fortbi
 ldungen / Seminare / Vorträge\nVeranstaltungsort: Stadtbücherei Kirn\nWilh
 em-Dröscher-Platz 1\n55606 Kirn\nKurzbeschreibung / Untertitel: Gedanken\,
  Inspirationen\, Impulse oder Glaubenssprüche schön gestalten\nAusführlich
 e Beschreibung: Der Kurs wird aufbauend stattfinden. Wir beschäftigen uns 
 teilweise mit der Schriftgeschichte und parallel dazu werden wir unsere er
 sten handgeletterten Buchstaben schreiben üben. Nachdem wir uns Texte oder
  Sprüche gesucht haben\, die wir als Letterings gestalten wollen\, werden 
 wir uns mit Kompositionen und Hintergrundgestaltungen beschäftigen. Ziel d
 es Kurses ist das selbständige Gestalten eigener Schriftkunstwerke für Kar
 ten\, Bilder\, Schilder usw.\nDie Termine sind:\n> Dienstag\, 27.02.24\, 1
 8.30 bis 20.30 Uhr\n> Dienstag\, 05.03.24\, 18.30 bis 20.30 Uhr\n> Diensta
 g\, 12.03.24\, 18.30 bis 20.30 Uhr\n> Dienstag\, 19.03.24\, 18.30 bis 20.3
 0 Uhr\nFörderbereich: Sonstiges\nReferent/in: Carola Schick\, Bildungsrefe
 rentin im eeb und Schriftsetzerin\nAnsprechpartner/in - Leitung: Carola Sc
 hick\nKosten: 10\,– € /Abend\nZusatzinformationen: Der Preis ist zzgl. Mat
 erial. Bitte bringen Sie eigene Stifte und Materialien gerne mit.\n: 
DTSTART;TZID=Europe/Berlin:20240319T183000
DTEND;TZID=Europe/Berlin:20240319T203000
LOCATION:Kirn: Stadtbücherei Kirn
SUMMARY:Schicklettern – Handlettering zum Kennenlernen :: Gedanken\, Inspir
 ationen\, Impulse oder Glaubenssprüche schön gestalten
URL:https://termine.ekir.de/veranstaltung_im_detail778688.html
END:VEVENT
END:VCALENDAR
