BEGIN:VCALENDAR
VERSION:2.0
PRODID:-//evangelische-termine.de//NONSGML kigkonsult.se iCalcreator 2.18//
CALSCALE:GREGORIAN
METHOD:PUBLISH
X-WR-CALNAME:iCal Evangelische-Termine 20.04.2026
X-WR-CALDESC:iCalender von Evangelische-Termine (20.04.2026)
X-WR-TIMEZONE:Europe/Berlin
X-MS-OLK-FORCEINSPECTOROPEN:TRUE
BEGIN:VTIMEZONE
TZID:Europe/Berlin
BEGIN:STANDARD
DTSTART:19701025T030000
TZOFFSETFROM:+0200
TZOFFSETTO:+0100
RRULE:FREQ=YEARLY;BYDAY=-1SU;BYMONTH=10
TZNAME:CET
END:STANDARD
BEGIN:DAYLIGHT
DTSTART:19700329T020000
TZOFFSETFROM:+0100
TZOFFSETTO:+0200
RRULE:FREQ=YEARLY;BYDAY=-1SU;BYMONTH=3
TZNAME:CEST
END:DAYLIGHT
END:VTIMEZONE
BEGIN:VEVENT
UID:20240420T110000-779655@evangelische-termine.de
DTSTAMP:20260420T001041Z
DESCRIPTION:\nVeranstalterin: Eine Kooperationsveranstaltung der Evangelisc
 hen Akademie im Rheinland.\nThemenbereich : Kirche auf dem Land\nKurzbesch
 reibung: Spirituelle Wanderung\nMehr Informationen: Ein nachhaltigerer Leb
 ensstil zur Bewahrung der Schöpfung ist heute ein persönliches Anliegen vi
 eler Christ:innen. Dennoch fällt es im Alltag oft schwer Verzicht zu üben.
  Was brauchen wir wirklich zum Leben? Was gibt uns Kraft? Welche Wege möch
 ten wir gehen?\n\nEin Tag der Besinnung\, ein besonderer Ort und Begegnung
 en mit anderen können dabei Hilfestellungen bieten. Bei einer spirituellen
  Wanderung auf dem Eremitenpfad in Bretzenheim lassen wir uns von der Lebe
 nsweise der ehemaligen Einsiedler\, biblischen Impulsen und der Natur selb
 st inspirieren. Wir sind gemeinsam unterwegs\, tauschen uns aus und gehen 
 erste Schritte auf dem Weg zu mehr Nachhaltigkeit.\n\nDurchführung\nDr. Ev
 a-Maria Gummelt\, Studienleiterin der Evangelischen Akademie im Rheinland
 \nChristoph Diefenbach\, Nachhaltigkeitsmanagement der Evangelischen Kirch
 e im Rheinland\n\nVeranstaltungsort und Anreise\nTreffpunkt: 10:45 Uhr an 
 der Eremitenpfad-Stele am Parkplatz Kronenberghalle Bretzenheim. Ein vorau
 ssichtliches Ende ist für 16:00 Uhr geplant. Wir empfehlen eine Anreise mi
 t öffentlichen Verkehrsmitteln. Der Treffpunkt ist ab dem Bahnhof „Bretzen
 heim (Nahe)“ mit Aufklebern an Laternen ausgeschildert (ca. 15 Minuten Fuß
 weg). Über den Wanderweg können Sie sich bereits vorab unter https://www.b
 retzenheim.de/project/vitaltour-eremitenpfad/ informieren.\n\nHinweise für
  die Wanderung\nDie Verpflegung unterwegs erfolgt aus dem eigenen Rucksack
 . Es besteht während der Wanderung keine Möglichkeit zur Einkehr. Bitte de
 nken Sie an festes Schuhwerk\, Sonnenschutz und wetterfeste Kleidung. Für 
 die Wanderung sind Trittsicherheit und eine gute Kondition erforderlich (9
 \,3 km Wegstrecke mit 192 Höhenmetern). Bei ungünstigen Wetterbedingungen 
 behalten wir uns vor\, die Veranstaltung abzusagen.\nKooperationspartner:i
 nnen : Evangelische Kirche im Rheinland\nEvangelisches Erwachsenenbildungs
 werk Rheinland-Süd e. V.\nEvangelischer Kirchenkreis an Nahe und Glan\nAnm
 eldung und praktische Hinweise: Wir erbitten eine verbindliche Anmeldung b
 is zum 10. April 2024 unter folgendem Link: https://events.crm.ekir.de/civ
 iremote/event/2499/register\n\nDie Teilnehmerzahl ist auf 20 Personen begr
 enzt.\nKosten: Die Teilnahme ist kostenfrei.\nAnsprechpartner:in: Dr. Eva-
 Maria Gummelt\, Studienleiterin\nThemenbereich: Kirche auf dem Land\nhttps
 ://kirche-dorf-land.ekir.de/\nTel.: 0228 479898-50\nVeranstaltungsort: Ere
 mitenpfad - Startpunkt\nWinzenheimer Str. 29\n55559 Bretzenheim\nHinweise 
 (Förderung\, Programm o.ä.): Programm zum Download:\nhttps://redstorage.ek
 ir.de/f/577af7e872f54bfb964e/\nInternetadresse: https://ev-akademie-rheinl
 and.ekir.de\nE-Mail: info@akademie.ekir.de\nZielgruppe: Es sind alle einge
 laden\, die sich für das Themenfeld interessieren.
DTSTART;TZID=Europe/Berlin:20240420T110000
DTEND;TZID=Europe/Berlin:20240420T160000
LOCATION:Bretzenheim: Eremitenpfad - Startpunkt
SUMMARY:Abgesagt: Genug zum Leben. Wege zu mehr Nachhaltigkeit auf dem Erem
 itenpfad entdecken
URL:https://termine.ekir.de/veranstaltung_im_detail779655.html
END:VEVENT
END:VCALENDAR
