BEGIN:VCALENDAR
VERSION:2.0
PRODID:-//evangelische-termine.de//NONSGML kigkonsult.se iCalcreator 2.18//
CALSCALE:GREGORIAN
METHOD:PUBLISH
X-WR-CALNAME:iCal Evangelische-Termine 20.04.2026
X-WR-CALDESC:iCalender von Evangelische-Termine (20.04.2026)
X-WR-TIMEZONE:Europe/Berlin
X-MS-OLK-FORCEINSPECTOROPEN:TRUE
BEGIN:VTIMEZONE
TZID:Europe/Berlin
BEGIN:STANDARD
DTSTART:19701025T030000
TZOFFSETFROM:+0200
TZOFFSETTO:+0100
RRULE:FREQ=YEARLY;BYDAY=-1SU;BYMONTH=10
TZNAME:CET
END:STANDARD
BEGIN:DAYLIGHT
DTSTART:19700329T020000
TZOFFSETFROM:+0100
TZOFFSETTO:+0200
RRULE:FREQ=YEARLY;BYDAY=-1SU;BYMONTH=3
TZNAME:CEST
END:DAYLIGHT
END:VTIMEZONE
BEGIN:VEVENT
UID:20240521T000000-781243@evangelische-termine.de
DTSTAMP:20260419T223912Z
DESCRIPTION:\nKirchenkreis: überregional\nArt der Veranstaltung: Freizeiten
  / Reisen\nVeranstaltungsort: Rumänien\n Hermannstadt\nKurzbeschreibung / 
 Untertitel: Kulturreise nach Rumänien\nAusführliche Beschreibung: Rumänien
 … ist ein faszinierendes Land\, das seine Besucher immer wieder aufs Neue 
 positiv überrascht. Seit 2004 ist Rumäni-en NATO- und seit 2007 EU-Mitglie
 d. \nAuf unserer Reise wollen wir die wunderschöne und zentral gelegene Re
 gion Südsiebenbürgen kennen lernen\, die reichhaltige Kultur- und Naturlan
 dschaft erkunden\, Menschen vor Ort begegnen und Informationen aus erster 
 Hand über das Land und seine Leute erfahren. Selbstverständlich verkosten 
 wir auch köstliche rumänische Weine\, insbesondere aus dem siebenbürgische
 n Kokeltal! Wir tauchen in die Geschichte und Gegenwart der deutschsprachi
 gen Minderheit der Siebenbürger Sachsen ein und erkunden die beeindruckend
 e Kirchenburgenlandschaft – ein Stück europäisches Kulturerbe von Weltbede
 utung! \nEtappen der Reise:\nKlausenburg – Hermannstadt\, Heltau Michelsbe
 rg\, Sâmbăta - Kronstadt\, Burzenland und Repser Ländchen\, Birthälm und S
 chässburg\, Hermannstadt - Sibiel\, Mediasch und Kokelwein\n\nPreis: \n108
 0\,- €\, gültig bei einer Teilnehmerzahl von 30 bis 40 Personen\, \n1160\,
 - €\, gültig bei einer Teilnehmerzahl von 20 bis 29 Personen. Einzelzimmer
 zuschlag: 195\,- €\nIm Preis inbegriffen sind:\n-	sieben Übernachtungen mit
  Frühstück\n-	Mittag- und Abendessen (ohne Getränke)\n-	Alle Fahrten mit mod
 ernem Großraumbus\, Klimaanlage\, Mikrofonanlage (ab/bis Flughafen Klausen
 burg)\n-	Unterkunft und Verpflegung des Busfahrers\n-	Führungen und Eintritt
 sgelder\nFörderbereich: Sonstiges\nReferent/in: Imre István\nAnsprechpartn
 er/in - Leitung: Reisegruppe Mühlheim\, Kirchenkreis\nImre István\nKosten:
  ab 1080\,– € / Person\nZusatzinformationen: Anmeldung: \nBis 29. Februar 
 2024 bei Imre István (Öcsi): istvanimre@gmx.de\; Tel. 0162-1548461\; Anmel
 deformular wird danach versandt.
DTSTART;VALUE=DATE:20240521
DTEND;VALUE=DATE:20240522
LOCATION:Hermannstadt: Rumänien
SUMMARY:Mühlheim-Veldenzer Kulturreise – Südsiebenbürgen 2024
URL:https://termine.ekir.de/veranstaltung_im_detail781243.html
END:VEVENT
END:VCALENDAR
