BEGIN:VCALENDAR
VERSION:2.0
PRODID:-//evangelische-termine.de//NONSGML kigkonsult.se iCalcreator 2.18//
CALSCALE:GREGORIAN
METHOD:PUBLISH
X-WR-CALNAME:iCal Evangelische-Termine 20.04.2026
X-WR-CALDESC:iCalender von Evangelische-Termine (20.04.2026)
X-WR-TIMEZONE:Europe/Berlin
X-MS-OLK-FORCEINSPECTOROPEN:TRUE
BEGIN:VTIMEZONE
TZID:Europe/Berlin
BEGIN:STANDARD
DTSTART:19701025T030000
TZOFFSETFROM:+0200
TZOFFSETTO:+0100
RRULE:FREQ=YEARLY;BYDAY=-1SU;BYMONTH=10
TZNAME:CET
END:STANDARD
BEGIN:DAYLIGHT
DTSTART:19700329T020000
TZOFFSETFROM:+0100
TZOFFSETTO:+0200
RRULE:FREQ=YEARLY;BYDAY=-1SU;BYMONTH=3
TZNAME:CEST
END:DAYLIGHT
END:VTIMEZONE
BEGIN:VEVENT
UID:20240427T140000-786708@evangelische-termine.de
DTSTAMP:20260419T223607Z
DESCRIPTION:\nKirchenkreis: überregional\nArt der Veranstaltung: Fortbildun
 gen / Seminare / Vorträge\nVeranstaltungsort: BRÜCKE\, das Gemeindehaus de
 r Ev. Kirchengemeinde Becherbach\nIm Winkel 2\n55608 Becherbach bei Kirn\n
 Kurzbeschreibung / Untertitel: Namibia – Länderkunde\nAusführliche Beschre
 ibung: Namibia – die ehemalige deutsche Kolonie Südwest-Afrika – hat eine 
 bewegte und oft leidvolle Geschichte hinter sich. Seit der Unabhängigkeit 
 1990 gehen das Land und seine Menschen ihren Weg\, trotz massiver gesellsc
 haftlicher und politischer Probleme\, mit Blick auf eine Zukunft voller Ho
 ffnung. \nDr. Thomas Christiansen\, der mehrere Jahre an der Universität i
 n Windhoek tätig war\, schildert in seinem Vortrag seine Erlebnisse und Ke
 nntnisse zu diesem faszinierenden Land.\nFörderbereich: Politische Bildung
 \nReferent/in: Dr. Thomas Christiansen\nAnsprechpartner/in - Leitung: Kirs
 ten Arnswald und Friedrich Mayer\nKosten: kostenlos\nZusatzinformationen: 
 Anmeldung bis 19.042024\nVeranstalter ist die Ev. Kirchengemeinde Becherba
 ch und \ndas Ev. Erwachsenenbildungswerk Rheinland-Süd e.V.\n: \nAnsprechp
 artner: Kirsten Arnswald karnswald@eeb-sued.de\n06761/7019
DTSTART;TZID=Europe/Berlin:20240427T140000
DTEND;TZID=Europe/Berlin:20240427T160000
LOCATION:Becherbach bei Kirn: BRÜCKE\, das Gemeindehaus der Ev. Kirchengeme
 inde Becherbach
SUMMARY:Namibia zwischen gestern und heute – ein Land sucht seinen Weg
URL:https://termine.ekir.de/veranstaltung_im_detail786708.html
END:VEVENT
END:VCALENDAR
