BEGIN:VCALENDAR
VERSION:2.0
PRODID:-//evangelische-termine.de//NONSGML kigkonsult.se iCalcreator 2.18//
CALSCALE:GREGORIAN
METHOD:PUBLISH
X-WR-CALNAME:iCal Evangelische-Termine 19.04.2026
X-WR-CALDESC:iCalender von Evangelische-Termine (19.04.2026)
X-WR-TIMEZONE:Europe/Berlin
X-MS-OLK-FORCEINSPECTOROPEN:TRUE
BEGIN:VTIMEZONE
TZID:Europe/Berlin
BEGIN:STANDARD
DTSTART:19701025T030000
TZOFFSETFROM:+0200
TZOFFSETTO:+0100
RRULE:FREQ=YEARLY;BYDAY=-1SU;BYMONTH=10
TZNAME:CET
END:STANDARD
BEGIN:DAYLIGHT
DTSTART:19700329T020000
TZOFFSETFROM:+0100
TZOFFSETTO:+0200
RRULE:FREQ=YEARLY;BYDAY=-1SU;BYMONTH=3
TZNAME:CEST
END:DAYLIGHT
END:VTIMEZONE
BEGIN:VEVENT
UID:20240316T090000-786727@evangelische-termine.de
DTSTAMP:20260419T204834Z
DESCRIPTION:\nKirchenkreis: überregional\nArt der Veranstaltung: Fortbildun
 gen / Seminare / Vorträge\nVeranstaltungsort: Gemeindehaus der Ev. Kirchen
 gemeinde Engers\nDietrich-Bonhoeffer-Straße 8\n56566 Neuwied\nKurzbeschrei
 bung / Untertitel: Argumentationstraining – Es werden Handlungsmöglichkeit
 en und Reaktionsweisen eingeübt\nAusführliche Beschreibung: Angesichts akt
 ueller politischer Krisen und gesellschaftlicher Herausforderungen begegne
 n uns immer wieder Vorurteile und Stammtischparolen. Doch wie reagiert man
  richtig und angemessen darauf? Was können wir bei diskriminierenden und m
 enschenverachtenden Aussagen entgegnen? Wann ist Widerspruch und Argumenta
 tion gegen solche Aussagen nötig und sinnvoll? Das Argumentationstraining 
 gegen Stammtischparolen soll zunächst sensibilisieren\, auf der Arbeit und
  in der Freizeit genauer hinzuhören\, Dinge zu hinterfragen und einzuhaken
 \, wenn pauschal abwertende Sätze fallen.\nDas Training ist offen für alle
  Interessierten und soll helfen\, Haltung zu zeigen\, geäußerten Vorurteil
 en die eigene Meinung entgegenzusetzen und die Diskussion auf ein sachlich
 es Niveau zu bringen. Die Teilnehmenden lernen Hintergründe und Ursachen f
 ür das Gebrauchen von Parolen\, Schlagwörtern und Vorurteilen kennen\, um 
 anschließend argumentative Gegenstrategien zu entwickeln. Auf der Basis ei
 gener Erfahrungen und Erlebnisse der Teilnehmenden werden praktische Grupp
 enarbeiten und Rollenspiele entwickelt\, in denen wirkungsvolle Handlungsm
 öglichkeiten und Reaktionsweisen eingeübt werden. In der anschließenden ge
 meinsamen Auswertung werden die Verhaltensweisen und Argumentationsmuster 
 reflektiert und vertieft.\nFörderbereich: Politische Bildung\nReferent/in:
  Astrid Marx und Latif Rahman\, Landeszentrale für pol. Bildung Rheinland-
 Pfalz\nAnsprechpartner/in - Leitung: Ev. Kirchengemeinde Neuwied\nKosten: 
 10\,– €\nZusatzinformationen: Anmeldung über https://forms.churchdesk.com/
 f/Hhj2WI81FW\nmax. 20 Teilnehmende
DTSTART;TZID=Europe/Berlin:20240316T090000
DTEND;TZID=Europe/Berlin:20240316T163000
LOCATION:Neuwied: Gemeindehaus der Ev. Kirchengemeinde Engers
SUMMARY:Argumentationstraining – Gegen rechte Stammtischparolen :: Es werde
 n Handlungsmöglichkeiten und Reaktionsweisen eingeübt
URL:https://termine.ekir.de/veranstaltung_im_detail786727.html
END:VEVENT
END:VCALENDAR
