BEGIN:VCALENDAR
VERSION:2.0
PRODID:-//evangelische-termine.de//NONSGML kigkonsult.se iCalcreator 2.18//
CALSCALE:GREGORIAN
METHOD:PUBLISH
X-WR-CALNAME:iCal Evangelische-Termine 19.04.2026
X-WR-CALDESC:iCalender von Evangelische-Termine (19.04.2026)
X-WR-TIMEZONE:Europe/Berlin
X-MS-OLK-FORCEINSPECTOROPEN:TRUE
BEGIN:VTIMEZONE
TZID:Europe/Berlin
BEGIN:STANDARD
DTSTART:19701025T030000
TZOFFSETFROM:+0200
TZOFFSETTO:+0100
RRULE:FREQ=YEARLY;BYDAY=-1SU;BYMONTH=10
TZNAME:CET
END:STANDARD
BEGIN:DAYLIGHT
DTSTART:19700329T020000
TZOFFSETFROM:+0100
TZOFFSETTO:+0200
RRULE:FREQ=YEARLY;BYDAY=-1SU;BYMONTH=3
TZNAME:CEST
END:DAYLIGHT
END:VTIMEZONE
BEGIN:VEVENT
UID:20240404T170000-787178@evangelische-termine.de
DTSTAMP:20260419T211052Z
DESCRIPTION:\nKirchenkreis: überregional\nArt der Veranstaltung: Ausstellun
 gen / Kunst\nVeranstaltungsort: Ev. Gemeindehaus an der Marktkirche\nPfarr
 er-Werner-Mörchen-Str. 1\n56567 Neuwied\nKurzbeschreibung / Untertitel: Au
 sstellung – Programmpunkte\nAusführliche Beschreibung: Woher der Wein eige
 ntlich ursprünglich kommt ist immer noch nicht endgültig geklärt. Vielleic
 ht kommt er aus Armenien\, der Region zwischen dem Schwarzem und dem Kaspi
 schem Meer. Die Bibel jedenfalls beschreibt die Weinrebe als erste die Pfl
 anze\, die Noah nach der Sintflut kultivierte. Und der Mittelmeerraum und 
 der Nahe Osten\, in dem die Wurzeln des Christentums liegen\, sind für den
  Weinbau gut geeignet. \nDie Kulturgeschichte der Menschen ist auch eine W
 eingeschichte. Da erstaunt es nicht\, dass die Bibel von Weinanbau\, von W
 einbergen und\, Weinbauern\, vom Genuss und den Gefahren des Weins erzählt
 .\nIn der Bibel finden sich zahlreiche Bilder zum Thema Wein. Als eines de
 r bekanntesten Wunder gilt die Geschichte der Hochzeit zu Kana\, bei der J
 esus Wasser in Wein verwandelte. Und seine besondere Bedeutung erhält der 
 Wein im Neuen Testament durch das letzte Abendmahl\, als Christus den Wein
  zu seinem Blut erklärte. Zusammen mit dem Brot wird der Wein so zum Versp
 rechen der Wiederauferstehung.\nSeitdem nimmt er einen wichtigen Platz in 
 der christlichen Kultur und Liturgie ein.\nDie Ausstellung des Evangelisch
 en Bibelwerkes unter dem Motto „Bibel und Wein“\, die vom 04. bis zum 26. 
 April im Gemeindehaus an der Marktkirche (Engerser Straße 34\, 56564 Neuwi
 ed) zu sehen sein wird\, lädt mit ausdrucksstarken Bildern\, informativen 
 Texten und humoristischen Zeichnungen dazu ein\, innezuhalten und sich am 
 Wein und seinen inspirierenden Inhalten zu erfreuen.\nDer Weinanbau wird d
 arin in seinen jahreszeitlichen Phasen mit biblischen Inhalten in Beziehun
 g gesetzt. Seine Bedeutung für die Flora und Fauna wird herausgestellt. Am
  4. April wird diese um 17 Uhr eröffnet.\nIm Rahmen der Ausstellung finden
  verschieden Veranstaltungen statt. \n- Do.\, 11.04.24\, 19.00 Uhr unter d
 em Motto „Der Wein erfreut des Menschen Herz“\, eine biblische Weinprobe\;
  Kalle Grundmann wird an diesem Abend tiefsinnig und humorvoll Wein und Bi
 bel erläutern. Eine vorherige Anmeldung beim Gemeindebüro an der Marktkirc
 he ist erforderlich.\n- So.\, 21.04.24\, 10.30 Uhr findet ein Gottesdienst
  mit Pfarrerin Arfmann-Knübel und Team statt\, dass dem Thema auf die Spur
  geht. \n- Mo.\, 22.04.24\, 19.00 Uhr Vortragsabend mit Pfarrer i. R. Wern
 er Zupp zum Thema „Der Wein in der Bibel - eine Reise durch das Alte und N
 eue Testament“.\nInternetadresse (eigene Infos im Internet): https://www.m
 arktkirche.de\nFörderbereich: Abschluss- und schulabschlussbezogene Bildun
 g\nReferent/in: verschiedene\nAnsprechpartner/in - Leitung: Ev. Kirchengem
 einde Engers/Neuwied\nZusatzinformationen: Anmeldung beim Gemeindebüro an 
 der Marktkirche\, Tel. 02631 23282
DTSTART;TZID=Europe/Berlin:20240404T170000
DTEND;TZID=Europe/Berlin:20240426T180000
LOCATION:Neuwied: Ev. Gemeindehaus an der Marktkirche
SUMMARY:Ausstellung „Bibel und Wein“ :: Ausstellung mit verschiedenen Progr
 ammpunkten
URL:https://termine.ekir.de/veranstaltung_im_detail787178.html
END:VEVENT
END:VCALENDAR
