BEGIN:VCALENDAR
VERSION:2.0
PRODID:-//evangelische-termine.de//NONSGML kigkonsult.se iCalcreator 2.18//
CALSCALE:GREGORIAN
METHOD:PUBLISH
X-WR-CALNAME:iCal Evangelische-Termine 20.04.2026
X-WR-CALDESC:iCalender von Evangelische-Termine (20.04.2026)
X-WR-TIMEZONE:Europe/Berlin
X-MS-OLK-FORCEINSPECTOROPEN:TRUE
BEGIN:VTIMEZONE
TZID:Europe/Berlin
BEGIN:STANDARD
DTSTART:19701025T030000
TZOFFSETFROM:+0200
TZOFFSETTO:+0100
RRULE:FREQ=YEARLY;BYDAY=-1SU;BYMONTH=10
TZNAME:CET
END:STANDARD
BEGIN:DAYLIGHT
DTSTART:19700329T020000
TZOFFSETFROM:+0100
TZOFFSETTO:+0200
RRULE:FREQ=YEARLY;BYDAY=-1SU;BYMONTH=3
TZNAME:CEST
END:DAYLIGHT
END:VTIMEZONE
BEGIN:VEVENT
UID:20240420T110000-790558@evangelische-termine.de
DTSTAMP:20260419T223845Z
DESCRIPTION:\nKirchenkreis: überregional\nArt der Veranstaltung: Sonstiges
 \nVeranstaltungsort: Eremitenpfad - Startpunkt\nWinzenheimer Str. 29\n5555
 9 Bretzenheim\nKurzbeschreibung / Untertitel: Spirituelle Wanderung\nAusfü
 hrliche Beschreibung: Ein nachhaltigerer Lebensstil zur Bewahrung der Schö
 pfung ist heute ein persönliches Anliegen vieler Christ:innen. Dennoch fäl
 lt es im Alltag oft schwer Verzicht zu üben. Was brauchen wir wirklich zum
  Leben? Was gibt uns Kraft? Welche Wege möchten wir gehen?\n\nEin Tag der 
 Besinnung\, ein besonderer Ort und Begegnungen mit anderen können dabei Hi
 lfestellungen bieten. Bei einer spirituellen Wanderung auf dem Eremitenpfa
 d in Bretzenheim lassen wir uns von der Lebensweise der ehemaligen Einsied
 ler\, biblischen Impulsen und der Natur selbst inspirieren. Wir sind gemei
 nsam unterwegs\, tauschen uns aus und gehen erste Schritte auf dem Weg zu 
 mehr Nachhaltigkeit.\n\nDurchführung\nDr. Eva-Maria Gummelt\, Studienleite
 rin der Evangelischen Akademie im Rheinland\nChristoph Diefenbach\, Nachha
 ltigkeitsmanagement der Evangelischen Kirche im Rheinland\n\nVeranstaltung
 sort und Anreise\nTreffpunkt: 10:45 Uhr an der Eremitenpfad-Stele am Parkp
 latz Kronenberghalle Bretzenheim. Ein voraussichtliches Ende ist für 16:00
  Uhr geplant. Wir empfehlen eine Anreise mit öffentlichen Verkehrsmitteln.
  Der Treffpunkt ist ab dem Bahnhof „Bretzenheim (Nahe)“ mit Aufklebern an 
 Laternen ausgeschildert (ca. 15 Minuten Fußweg). Über den Wanderweg können
  Sie sich bereits vorab unter https://www.bretzenheim.de/project/vitaltour
 -eremitenpfad/ informieren.\n\nHinweise für die Wanderung\nDie Verpflegung
  unterwegs erfolgt aus dem eigenen Rucksack. Es besteht während der Wander
 ung keine Möglichkeit zur Einkehr. Bitte denken Sie an festes Schuhwerk\, 
 Sonnenschutz und wetterfeste Kleidung. Für die Wanderung sind Trittsicherh
 eit und eine gute Kondition erforderlich (9\,3 km Wegstrecke mit 192 Höhen
 metern). Bei ungünstigen Wetterbedingungen behalten wir uns vor\, die Vera
 nstaltung abzusagen.\nInternetadresse (eigene Infos im Internet): https://
 termine.ekir.de/d-779655\nFörderbereich: Umwelt und Ökologie\nAnsprechpart
 ner/in - Leitung: Dr. Eva-Maria Gummelt\, Studienleiterin\nThemenbereich: 
 Ländliche Räume\nhttps://kirche-dorf-land.ekir.de/\nTel.: 0228 479898-50\n
 Kosten: kostenfrei\nZusatzinformationen: Wir erbitten eine verbindliche An
 meldung bis zum 10. April 2024 unter folgendem Link: https://events.crm.ek
 ir.de/civiremote/event/2499/register\n\nDie Teilnehmerzahl ist auf 20 Pers
 onen begrenzt. \nProgramm zum Download:\nhttps://redstorage.ekir.de/f/577a
 f7e872f54bfb964e/\ninfo@akademie.ekir.de\nhttps://ev-akademie-rheinland.ek
 ir.de\nAnsprechpartner: Dr. Eva-Maria Gummelt\, Studienleiterin info@akade
 mie.ekir.de\nThemenbereich: Ländliche Räume\nhttps://kirche-dorf-land.ekir
 .de/\nTel.: 0228 479898-50
DTSTART;TZID=Europe/Berlin:20240420T110000
DTEND;TZID=Europe/Berlin:20240420T160000
LOCATION:Bretzenheim: Eremitenpfad - Startpunkt
SUMMARY:- ABGESAGT - Genug zum Leben. Wege zu mehr Nachhaltigkeit auf dem E
 remitenpfad entdecken :: Spirituelle Wanderung
URL:https://termine.ekir.de/veranstaltung_im_detail790558.html
END:VEVENT
END:VCALENDAR
