BEGIN:VCALENDAR
VERSION:2.0
PRODID:-//evangelische-termine.de//NONSGML kigkonsult.se iCalcreator 2.18//
CALSCALE:GREGORIAN
METHOD:PUBLISH
X-WR-CALNAME:iCal Evangelische-Termine 20.04.2026
X-WR-CALDESC:iCalender von Evangelische-Termine (20.04.2026)
X-WR-TIMEZONE:Europe/Berlin
X-MS-OLK-FORCEINSPECTOROPEN:TRUE
BEGIN:VTIMEZONE
TZID:Europe/Berlin
BEGIN:STANDARD
DTSTART:19701025T030000
TZOFFSETFROM:+0200
TZOFFSETTO:+0100
RRULE:FREQ=YEARLY;BYDAY=-1SU;BYMONTH=10
TZNAME:CET
END:STANDARD
BEGIN:DAYLIGHT
DTSTART:19700329T020000
TZOFFSETFROM:+0100
TZOFFSETTO:+0200
RRULE:FREQ=YEARLY;BYDAY=-1SU;BYMONTH=3
TZNAME:CEST
END:DAYLIGHT
END:VTIMEZONE
BEGIN:VEVENT
UID:20240628T000000-790562@evangelische-termine.de
DTSTAMP:20260419T223905Z
DESCRIPTION:\nKirchenkreis: überregional\nVeranstaltungsort: Evangelische J
 ugendbildungsstätte Hackhauser Hof – Bildungszentrum Jugendarbeit e.V.\,\n
 Hackhausen 5 b\n42697 Solingen\nKurzbeschreibung / Untertitel: Erste Hilfe
  nach dem Wahlerfolg\nAusführliche Beschreibung: Als Jugendliche:r oder ju
 nge:r Erwachsene:r im Leitungsgremium der Kirchengemeinde zu sitzen ist ni
 chts Gewöhnliches.\nAn diesem Wochenende werden wir versuchen\, dir den Ei
 nstieg in die Arbeit im Presbyterium etwas einfacher zu machen.\nDabei wer
 den wir :\n\n> einen Blick in die Ordnungen und Strukturen der Gemeinde un
 d der Landeskirche werfen   \n   und sie verständlich machen\,\n> Möglichk
 eiten zur aktiven Beteiligung ausloten\, \n> Sitzungsabläufe simulieren un
 d rhetorische Grundlagen für Wortmeldungen erproben\,\n> die eigene Funkti
 on und Rolle in Gremien reflektieren\,\n> Möglichkeiten zur Einbindung der
  Jugend der Gemeinde sammeln\, \n   um sie in der eigenen Gemeinde zu bete
 iligen\,\n> aktive Presbyter:innen nach ihren Erfahrungen\, Erfolgen und s
 chönsten \n   Fettnäpfchen befragen\,\n> vielleicht an Netzwerke junger\, 
 aktiver Presbyter:innen andocken.\nInternetadresse (eigene Infos im Intern
 et): https://www.hackhauser-hof.de/hilfe-ich-bin-eine-presbyterin/\nFörder
 bereich: Ehrenamt\nReferent/in: Claudius Rück\, David Ruddat\nAnsprechpart
 ner/in - Leitung: David Ruddat\nJugendbildungsreferent\nFon: 0212 22201-15
 \nE-Mail: ruddat@hackhauser-hof.de\nKosten: 45\,- €\nZusatzinformationen: 
 Anmeldung unter folgendem Link:\nhttps://www.hackhauser-hof.de/hilfe-ich-b
 in-eine-presbyterin/
DTSTART;VALUE=DATE:20240628
DTEND;VALUE=DATE:20240701
LOCATION:Solingen: Evangelische Jugendbildungsstätte Hackhauser Hof – Bildu
 ngszentrum Jugendarbeit e.V.\,
SUMMARY:Hilfe\, ich bin ein:e Presbyter:in :: Erste Hilfe nach dem Wahlerfo
 lg
URL:https://termine.ekir.de/veranstaltung_im_detail790562.html
END:VEVENT
END:VCALENDAR
