BEGIN:VCALENDAR
VERSION:2.0
PRODID:-//evangelische-termine.de//NONSGML kigkonsult.se iCalcreator 2.18//
CALSCALE:GREGORIAN
METHOD:PUBLISH
X-WR-CALNAME:iCal Evangelische-Termine 20.04.2026
X-WR-CALDESC:iCalender von Evangelische-Termine (20.04.2026)
X-WR-TIMEZONE:Europe/Berlin
X-MS-OLK-FORCEINSPECTOROPEN:TRUE
BEGIN:VTIMEZONE
TZID:Europe/Berlin
BEGIN:STANDARD
DTSTART:19701025T030000
TZOFFSETFROM:+0200
TZOFFSETTO:+0100
RRULE:FREQ=YEARLY;BYDAY=-1SU;BYMONTH=10
TZNAME:CET
END:STANDARD
BEGIN:DAYLIGHT
DTSTART:19700329T020000
TZOFFSETFROM:+0100
TZOFFSETTO:+0200
RRULE:FREQ=YEARLY;BYDAY=-1SU;BYMONTH=3
TZNAME:CEST
END:DAYLIGHT
END:VTIMEZONE
BEGIN:VEVENT
UID:20240610T193000-799129@evangelische-termine.de
DTSTAMP:20260419T223612Z
DESCRIPTION:\nKirchenkreis: überregional\nVeranstaltungsort: Ev. Gemeindeha
 us an der Marktkirche\nPfarrer-Werner-Mörchen-Str. 1\n56567 Neuwied\nKurzb
 eschreibung / Untertitel: Vortrag und Präsentation mit gemeinsamem Singen 
 einiger Lieder\nAusführliche Beschreibung: Vor genau 500 Jahren\, nämlich 
 im Jahr 1524\, erschienen die ersten evangelischen Gesangbücher. Auf Initi
 ative Martin Luthers wurden neue evangelische Kirchenlieder gedichtet und 
 gesammelt. Dies Jubiläum ist der Anlass\, sich mit dem Singen in der Kirch
 e von ihren ersten Anfängen vor 2000 Jahren zu beschäftigen. \nIn seinem V
 ortrag zeichnet Schmidt die Entwicklung des Kirchenliedes bis zur Gegenwar
 t nach. Dabei lernt man nicht nur verschiedene Kriterien\, Epochen und Per
 sonen kennen\, sondern erfährt auch von durchaus kuriosen Begebenheiten: Z
 um Beispiel konnte einmal ein neues Gesangbuch nur mit Polizeigewalt in ei
 ner Gemeinde eingeführt werden.\nDass die Gemeinde im Gottesdienst singt\,
  ist eine evangelische Erfindung. Warum sie nötig war und wie es überhaupt
  dazu kam: Das erfährt man an diesem Abend.\nKMD Thomas Schmidt ist Kreisk
 antor des Kirchenkrieses Wied. Er unterrichtet seit vielen Jahren das Fach
  Hymnologie (Kirchenliedkunde) an der Hochschule für Musik und Tanz Köln\,
  sowie im Rahmen der C-Kurse der Evangelischen Kirche im Rheinland. Er ist
  Mitglied der EKD-Gesangbuchkommission\, die am neuen Evangelischen Gesang
 buch arbeitet. Es soll im Jahr 2028 erscheinen.\nInternetadresse (eigene I
 nfos im Internet): https://www.marktkirche.de\nFörderbereich: Abschluss- u
 nd schulabschlussbezogene Bildung\nReferent/in: KMD Thomas Schmidt\nAnspre
 chpartner/in - Leitung: Marktkirche Neuwied
DTSTART;TZID=Europe/Berlin:20240610T193000
DTEND;TZID=Europe/Berlin:20240610T203000
LOCATION:Neuwied: Ev. Gemeindehaus an der Marktkirche
SUMMARY:2000 Jahre Kirchenlied :: Vom Mirjamlied bis „Komm\, Herr\, segne u
 ns“\; Vortrag und Präsentation mit gemeinsamem Singen einiger Lieder
URL:https://termine.ekir.de/veranstaltung_im_detail799129.html
END:VEVENT
END:VCALENDAR
