BEGIN:VCALENDAR
VERSION:2.0
PRODID:-//evangelische-termine.de//NONSGML kigkonsult.se iCalcreator 2.18//
CALSCALE:GREGORIAN
METHOD:PUBLISH
X-WR-CALNAME:iCal Evangelische-Termine 20.04.2026
X-WR-CALDESC:iCalender von Evangelische-Termine (20.04.2026)
X-WR-TIMEZONE:Europe/Berlin
X-MS-OLK-FORCEINSPECTOROPEN:TRUE
BEGIN:VTIMEZONE
TZID:Europe/Berlin
BEGIN:STANDARD
DTSTART:19701025T030000
TZOFFSETFROM:+0200
TZOFFSETTO:+0100
RRULE:FREQ=YEARLY;BYDAY=-1SU;BYMONTH=10
TZNAME:CET
END:STANDARD
BEGIN:DAYLIGHT
DTSTART:19700329T020000
TZOFFSETFROM:+0100
TZOFFSETTO:+0200
RRULE:FREQ=YEARLY;BYDAY=-1SU;BYMONTH=3
TZNAME:CEST
END:DAYLIGHT
END:VTIMEZONE
BEGIN:VEVENT
UID:20240625T100000-809429@evangelische-termine.de
DTSTAMP:20260419T223845Z
DESCRIPTION:\nKirchenkreis: überregional\nArt der Veranstaltung: Fortbildun
 gen / Seminare / Vorträge\nVeranstaltungsort: Zentrum Gesellschaftliche Ve
 rantwortung der EKHN\nAlbert-Schweitzer-Straße 113 - 115\n55128 Mainz\nKur
 zbeschreibung / Untertitel: Verschwörungstheorien und falsche Fakten – Was
  macht das mit uns?\nAusführliche Beschreibung: Ein Projekt der politische
 n Bildung\n\nWas fällt Ihnen zu der Methode Planspiel ein? \n\nMit einem P
 lanspiel können kritische Themen in Gruppen inhaltlich und emotional erleb
 bar gemacht werden. \nWir haben innerhalb dieses Projekts ein aus dem Juge
 ndbereich stammendes Planspiel für die Erwachsenenbildung adaptiert. Es so
 ll Handlungshilfen und -empfehlungen im Umgang mit Gruppen im Bereich der 
 politischen Bildung geben.\nWährend der Veranstaltung lernen Sie als Multi
 plikator:in\, wie Sie mit Hilfe dieser Methode Ihre Gruppen anleiten und e
 inen hohen persönlichen Wahrnehmungseffekt erzielen können\, um den demokr
 atischen Gedanken zu stärken.\n\nDas Projekt wird gefördert durch das Mini
 sterium für Arbeit\, Soziales\, Transformation und Digitalisierung in Rhei
 nland-Pfalz\nInternetadresse (eigene Infos im Internet): https://elag.de/p
 lanspiel-verschwoerungstheorien-und-falsche-fakten/\nFörderbereich: Politi
 sche Bildung\nReferent/in: Christian Gisinger (ELAG)\, Alexandra Wust\, Ca
 rola Schick (eeb)\, Matthias Blöser (ZGV)\nAnsprechpartner/in - Leitung: C
 hristian Gisinger (ELAG)\, Alexandra Wust\, Carola Schick (eeb)\, Matthias
  Blöser (ZGV)\nKosten: kostenlos\nZusatzinformationen: Anmeldung bis 18.06
 2024 unter https://elag.de/planspiel-verschwoerungstheorien-und-falsche-fa
 kten/\n: \nAnsprechpartner: Carola Schick eeb-sued@eeb-sued.de
DTSTART;TZID=Europe/Berlin:20240625T100000
DTEND;TZID=Europe/Berlin:20240625T140000
LOCATION:Mainz: Zentrum Gesellschaftliche Verantwortung der EKHN
SUMMARY:Planspiel – Spiel mit! :: Verschwörungstheorien und falsche Fakten 
 – Was macht das mit uns?
URL:https://termine.ekir.de/veranstaltung_im_detail809429.html
END:VEVENT
END:VCALENDAR
