BEGIN:VCALENDAR
VERSION:2.0
PRODID:-//evangelische-termine.de//NONSGML kigkonsult.se iCalcreator 2.18//
CALSCALE:GREGORIAN
METHOD:PUBLISH
X-WR-CALNAME:iCal Evangelische-Termine 20.04.2026
X-WR-CALDESC:iCalender von Evangelische-Termine (20.04.2026)
X-WR-TIMEZONE:Europe/Berlin
X-MS-OLK-FORCEINSPECTOROPEN:TRUE
BEGIN:VTIMEZONE
TZID:Europe/Berlin
BEGIN:STANDARD
DTSTART:19701025T030000
TZOFFSETFROM:+0200
TZOFFSETTO:+0100
RRULE:FREQ=YEARLY;BYDAY=-1SU;BYMONTH=10
TZNAME:CET
END:STANDARD
BEGIN:DAYLIGHT
DTSTART:19700329T020000
TZOFFSETFROM:+0100
TZOFFSETTO:+0200
RRULE:FREQ=YEARLY;BYDAY=-1SU;BYMONTH=3
TZNAME:CEST
END:DAYLIGHT
END:VTIMEZONE
BEGIN:VEVENT
UID:20240607T193000-811549@evangelische-termine.de
DTSTAMP:20260419T223754Z
DESCRIPTION:\nKirchenkreis: überregional\nArt der Veranstaltung: Fortbildun
 gen / Seminare / Vorträge\nVeranstaltungsort: BRÜCKE\, das Gemeindehaus de
 r Ev. Kirchengemeinde Becherbach\nIm Winkel 2\n55608 Becherbach bei Kirn\n
 Kurzbeschreibung / Untertitel: Aufwachsen im Land der Apartheid\nAusführli
 che Beschreibung: Raphael Hausmann hat 2020 einen Dokumentarfilm \nüber se
 inen Großvater Friedrich Mayer\, der in Namibia aufgewachsen ist gedreht.
 \nAufgewachsen im Land der Apartheid als Sohn eines Missionars in Namibia 
 der ehemaligen deutschen Kolonie Südwestafrika.\n\nAls Ergänzung zum Vorbe
 reitungstag laden wir ein zur Vorführung des Films (1h:12min) in der BRÜCK
 E\, dem ev. Gemeindehaus\, Im Winkel 2\, 55608 Becherbach bei Kirn.\nFörde
 rbereich: Politik und Ethik\nReferent/in: Friedrich Mayer\nAnsprechpartner
 /in - Leitung: Carola Schick\nKosten: kostenfrei\nZusatzinformationen: Anm
 eldung ist nicht erforderlich\nAnsprechpartner: Carola Schick eeb-sued@eeb
 -sued.de
DTSTART;TZID=Europe/Berlin:20240607T193000
DTEND;TZID=Europe/Berlin:20240607T203000
LOCATION:Becherbach bei Kirn: BRÜCKE\, das Gemeindehaus der Ev. Kirchengeme
 inde Becherbach
SUMMARY:HEIMAT - SO WEIT --Vorbereitung zur Namibiareise-- :: Dokumentarfil
 m von Raphael Hausmann
URL:https://termine.ekir.de/veranstaltung_im_detail811549.html
END:VEVENT
END:VCALENDAR
