BEGIN:VCALENDAR
VERSION:2.0
PRODID:-//evangelische-termine.de//NONSGML kigkonsult.se iCalcreator 2.18//
CALSCALE:GREGORIAN
METHOD:PUBLISH
X-WR-CALNAME:iCal Evangelische-Termine 20.04.2026
X-WR-CALDESC:iCalender von Evangelische-Termine (20.04.2026)
X-WR-TIMEZONE:Europe/Berlin
X-MS-OLK-FORCEINSPECTOROPEN:TRUE
BEGIN:VTIMEZONE
TZID:Europe/Berlin
BEGIN:STANDARD
DTSTART:19701025T030000
TZOFFSETFROM:+0200
TZOFFSETTO:+0100
RRULE:FREQ=YEARLY;BYDAY=-1SU;BYMONTH=10
TZNAME:CET
END:STANDARD
BEGIN:DAYLIGHT
DTSTART:19700329T020000
TZOFFSETFROM:+0100
TZOFFSETTO:+0200
RRULE:FREQ=YEARLY;BYDAY=-1SU;BYMONTH=3
TZNAME:CEST
END:DAYLIGHT
END:VTIMEZONE
BEGIN:VEVENT
UID:20240917T183000-815065@evangelische-termine.de
DTSTAMP:20260420T002202Z
DESCRIPTION:\nKirchenkreis: überregional\nArt der Veranstaltung: Fortbildun
 gen / Seminare / Vorträge\nVeranstaltungsort: online\n- -\nKurzbeschreibun
 g / Untertitel: Der Vortrag (mit Bildern) beleuchtet die Entwicklung des c
 hinesischen Buddhismus zwischen mystischer Tradition und Volksreligion und
  zieht Vergleiche zum Christentum. - Prof. Dr. Karl-Heinz Pohl\nAusführlic
 he Beschreibung: Der Buddhismus ist eine ursprünglich indische Religion\, 
 die im 1. Jh. n. Chr. nach China gelangte. Kulturell gesehen trennten Indi
 en und China Welten: Nicht nur der hochgradig spekulative Geist der Inder\
 , auch ihr mönchisch-asketisches Ideal standen dem pragmatisch-konfuzianis
 chen Familien- und Lebenssinn der Chinesen entgegen.\nDer Vortrag (mit Bil
 dern) wird in das Denkgebäude des Buddhismus einführen\, die Veränderungen
 \, die er durch Einflüsse des Konfuzianismus und Taoismus in China erfahre
 n hat\, beleuchten sowie seine ganze Spannbreite\, nämlich die zwischen we
 ltenthobener Mystik und weit verbreiteter Volksfrömmigkeit\, aufzeigen. Hi
 nsichtlich dieser Züge wird schließlich auch ein Vergleich mit dem Christe
 ntum gezogen.\nFörderbereich: Theologie/Religion\nReferent/in: Prof. i. R.
  Dr. Karl-Heinz Pohl\nAnsprechpartner/in - Leitung: Dr. Marion Krames\nKos
 ten: kostenlos\nZusatzinformationen: Anmeldeschluss: 15.09.2024\n: 
DTSTART;TZID=Europe/Berlin:20240917T183000
DTEND;TZID=Europe/Berlin:20240917T200000
LOCATION:-: online
SUMMARY:Der chinesische Buddhismus – zwischen Mystik und Volksreligion :: D
 er Vortrag beleuchtet die Entwicklung des chinesischen Buddhismus zwischen
  mystischer Tradition und Volksreligion.
URL:https://termine.ekir.de/veranstaltung_im_detail815065.html
END:VEVENT
END:VCALENDAR
