BEGIN:VCALENDAR
VERSION:2.0
PRODID:-//evangelische-termine.de//NONSGML kigkonsult.se iCalcreator 2.18//
CALSCALE:GREGORIAN
METHOD:PUBLISH
X-WR-CALNAME:iCal Evangelische-Termine 20.04.2026
X-WR-CALDESC:iCalender von Evangelische-Termine (20.04.2026)
X-WR-TIMEZONE:Europe/Berlin
X-MS-OLK-FORCEINSPECTOROPEN:TRUE
BEGIN:VTIMEZONE
TZID:Europe/Berlin
BEGIN:STANDARD
DTSTART:19701025T030000
TZOFFSETFROM:+0200
TZOFFSETTO:+0100
RRULE:FREQ=YEARLY;BYDAY=-1SU;BYMONTH=10
TZNAME:CET
END:STANDARD
BEGIN:DAYLIGHT
DTSTART:19700329T020000
TZOFFSETFROM:+0100
TZOFFSETTO:+0200
RRULE:FREQ=YEARLY;BYDAY=-1SU;BYMONTH=3
TZNAME:CEST
END:DAYLIGHT
END:VTIMEZONE
BEGIN:VEVENT
UID:20241008T183000-815067@evangelische-termine.de
DTSTAMP:20260420T002207Z
DESCRIPTION:\nKirchenkreis: überregional\nArt der Veranstaltung: Fortbildun
 gen / Seminare / Vorträge\nVeranstaltungsort: online\n- -\nKurzbeschreibun
 g / Untertitel: Die Theologin und Psycho-Gerontologin S. Tschainer informi
 ert über das Krankheitsbild Demenz und Möglichkeiten des Umgangs mit Betro
 ffenen. (gefördert von: Bürkle-Stiftung\, Kreisspark. Rhein-Hunsrück)\nAus
 führliche Beschreibung: Obwohl „Demenz“ uns in unserem Alltag inzwischen h
 äufig begegnet\, ist das Thema in unserer Gesellschaft doch noch ein Tabu.
  Demenz macht (auch) Angst. Diejenigen\, die in die alltägliche Versorgung
  und Pflege demenzerkrankter Frauen und Männer eingebunden sind\, stehen i
 mmer wieder vor Herausforderungen. Schwierige Situationen\, Streit und Esk
 alation führen zu Stress. Kann 'man' daran etwas ändern? Der Vortrag gibt 
 Ihnen einen kurzen Überblick zum Krankheitsbild Demenz. Insbesondere erhal
 ten Sie aber - auch anhand typischer Praxisbeispiele - Informationen zu Mö
 glichkeiten des Umgangs mit Betroffenen. Der Gedanke\, dass es in der Begl
 eitung demenzerkrankter Frauen und Männer - sowohl für Angehörige als auch
  für professionell Pflegende - Grenzen geben kann\, rundet den Vortrag ab.
 \nZiel ist die Stärkung Ihrer Fähigkeiten\, um im Alltag mit Demenzerkrank
 ten das Zusammenleben\, den Kontakt und eine deeskalierende Begleitung zu 
 erleichtern. Im Anschluss an den Vortrag steht Ihnen die Referentin gern f
 ür Fragen und Gespräch zur Verfügung.\nFörderbereich: Soziale Fragen und s
 oziale Dienste\nReferent/in: Sabine Tschainer-Zangl (Diplom-Theologin und 
 Diplom-Psycho-Gerontologin)\nAnsprechpartner/in - Leitung: Dr. Marion Kram
 es\nKosten: kostenlos\nZusatzinformationen: Anmeldung bis 06.10.2024\n: 
DTSTART;TZID=Europe/Berlin:20241008T183000
DTEND;TZID=Europe/Berlin:20241008T200000
LOCATION:-: online
SUMMARY:Demenz ohne Stress :: Der Online-Vortrag informiert zum Krankheitsb
 ild Demenz und zu Möglichkeiten des Umganges mit Betroffenen.
URL:https://termine.ekir.de/veranstaltung_im_detail815067.html
END:VEVENT
END:VCALENDAR
