BEGIN:VCALENDAR
VERSION:2.0
PRODID:-//evangelische-termine.de//NONSGML kigkonsult.se iCalcreator 2.18//
CALSCALE:GREGORIAN
METHOD:PUBLISH
X-WR-CALNAME:iCal Evangelische-Termine 20.04.2026
X-WR-CALDESC:iCalender von Evangelische-Termine (20.04.2026)
X-WR-TIMEZONE:Europe/Berlin
X-MS-OLK-FORCEINSPECTOROPEN:TRUE
BEGIN:VTIMEZONE
TZID:Europe/Berlin
BEGIN:STANDARD
DTSTART:19701025T030000
TZOFFSETFROM:+0200
TZOFFSETTO:+0100
RRULE:FREQ=YEARLY;BYDAY=-1SU;BYMONTH=10
TZNAME:CET
END:STANDARD
BEGIN:DAYLIGHT
DTSTART:19700329T020000
TZOFFSETFROM:+0100
TZOFFSETTO:+0200
RRULE:FREQ=YEARLY;BYDAY=-1SU;BYMONTH=3
TZNAME:CEST
END:DAYLIGHT
END:VTIMEZONE
BEGIN:VEVENT
UID:20241119T183000-815101@evangelische-termine.de
DTSTAMP:20260419T225855Z
DESCRIPTION:\nKirchenkreis: überregional\nArt der Veranstaltung: Fortbildun
 gen / Seminare / Vorträge\nVeranstaltungsort: online\n- -\nKurzbeschreibun
 g / Untertitel: In Vortrag und Diskussion geht es um die Frage\, welche Re
 ssourcen der christliche Glaube für das politische Handeln in den Krisen v
 on heute bietet. - PD Dr. Martin Fritz\nAusführliche Beschreibung: Mannigf
 ache Krisen fordern heute entschiedenes politisches Handeln. Zugleich gibt
  es vermehrt Widerstände gegen Reformen\, gegen die politisch Verantwortli
 chen und gegen unsere demokratische Ordnung. Was können wir in dieser Situ
 ation als Bürger tun? Und gibt es im christlichen Glauben besondere Ressou
 rcen für unsere politische Verantwortung heute?\nFörderbereich: Politische
  Bildung\nReferent/in: PD Dr. Martin Fritz (Evangelische Zentrale für Welt
 anschauungsfragen\, Berlin)\nAnsprechpartner/in - Leitung: Dr. Marion Kram
 es\nKosten: kostenlos\nZusatzinformationen: Anmeldung bis 17.11.2024\n: 
DTSTART;TZID=Europe/Berlin:20241119T183000
DTEND;TZID=Europe/Berlin:20241119T200000
LOCATION:-: online
SUMMARY:Unsere politische Verantwortung als Christen heute - PD Dr. Martin 
 Fritz (EZW\, Berlin) :: Welche Ressourcen bietet der christliche Glaube fü
 r das politische Handeln in den Krisen von heute?
URL:https://termine.ekir.de/veranstaltung_im_detail815101.html
END:VEVENT
END:VCALENDAR
